BEGIN:VCALENDAR
VERSION:2.0
PRODID:-//ROC Catholics Northwest - ECPv6.15.11//NONSGML v1.0//EN
CALSCALE:GREGORIAN
METHOD:PUBLISH
X-WR-CALNAME:ROC Catholics Northwest
X-ORIGINAL-URL:https://www.roccatholicsnorthwest.org
X-WR-CALDESC:Events for ROC Catholics Northwest
REFRESH-INTERVAL;VALUE=DURATION:PT1H
X-Robots-Tag:noindex
X-PUBLISHED-TTL:PT1H
BEGIN:VTIMEZONE
TZID:America/New_York
BEGIN:DAYLIGHT
TZOFFSETFROM:-0500
TZOFFSETTO:-0400
TZNAME:EDT
DTSTART:20230312T070000
END:DAYLIGHT
BEGIN:STANDARD
TZOFFSETFROM:-0400
TZOFFSETTO:-0500
TZNAME:EST
DTSTART:20231105T060000
END:STANDARD
BEGIN:DAYLIGHT
TZOFFSETFROM:-0500
TZOFFSETTO:-0400
TZNAME:EDT
DTSTART:20240310T070000
END:DAYLIGHT
BEGIN:STANDARD
TZOFFSETFROM:-0400
TZOFFSETTO:-0500
TZNAME:EST
DTSTART:20241103T060000
END:STANDARD
BEGIN:DAYLIGHT
TZOFFSETFROM:-0500
TZOFFSETTO:-0400
TZNAME:EDT
DTSTART:20250309T070000
END:DAYLIGHT
BEGIN:STANDARD
TZOFFSETFROM:-0400
TZOFFSETTO:-0500
TZNAME:EST
DTSTART:20251102T060000
END:STANDARD
BEGIN:DAYLIGHT
TZOFFSETFROM:-0500
TZOFFSETTO:-0400
TZNAME:EDT
DTSTART:20260308T070000
END:DAYLIGHT
BEGIN:STANDARD
TZOFFSETFROM:-0400
TZOFFSETTO:-0500
TZNAME:EST
DTSTART:20261101T060000
END:STANDARD
END:VTIMEZONE
BEGIN:VEVENT
DTSTART;TZID=America/New_York:20250227T130000
DTEND;TZID=America/New_York:20250227T143000
DTSTAMP:20260421T120505
CREATED:20250113T195137Z
LAST-MODIFIED:20250113T200928Z
UID:10000453-1740661200-1740666600@www.roccatholicsnorthwest.org
SUMMARY:Opening The Word Bible Study
DESCRIPTION:One of the requests from the Elements of The Catholic Mass sessions sponsored by the Parish Eucharistic Revival Team was a desire for more understanding of the Scriptures.\nThe “Opening The Word” Bible Study is a dynamic and exciting journey into the Sunday Mass readings that will help us more deeply understand the readings\, and apply the teachings of the Word of God to our daily life\, more deeply encounter Christ\, and live our Catholic faith in a more powerful way. \nNo need to register\, just come when you can. If you miss a session or two\, just come to the next one. Bibles are available in the library\, or you may bring your own. The readings are also in the previous Sunday bulletin\, if you wish to bring that along (we will also have some available\nin the library). \nJoin us as we dive into these eight Sunday readings.
URL:https://www.roccatholicsnorthwest.org/event/opening-the-word-bible-study/2025-02-27/1/
LOCATION:St. Charles Borromeo\, 3003 Dewey Ave\, Rochester\, NY\, 14616\, United States
CATEGORIES:St. Charles Borromeo
END:VEVENT
BEGIN:VEVENT
DTSTART;TZID=America/New_York:20250220T190000
DTEND;TZID=America/New_York:20250220T203000
DTSTAMP:20260421T120505
CREATED:20250113T195137Z
LAST-MODIFIED:20250113T200928Z
UID:10000512-1740078000-1740083400@www.roccatholicsnorthwest.org
SUMMARY:Opening The Word Bible Study
DESCRIPTION:One of the requests from the Elements of The Catholic Mass sessions sponsored by the Parish Eucharistic Revival Team was a desire for more understanding of the Scriptures.\nThe “Opening The Word” Bible Study is a dynamic and exciting journey into the Sunday Mass readings that will help us more deeply understand the readings\, and apply the teachings of the Word of God to our daily life\, more deeply encounter Christ\, and live our Catholic faith in a more powerful way. \nNo need to register\, just come when you can. If you miss a session or two\, just come to the next one. Bibles are available in the library\, or you may bring your own. The readings are also in the previous Sunday bulletin\, if you wish to bring that along (we will also have some available\nin the library). \nJoin us as we dive into these eight Sunday readings.
URL:https://www.roccatholicsnorthwest.org/event/opening-the-word-bible-study/2025-02-20/2/
LOCATION:St. Charles Borromeo\, 3003 Dewey Ave\, Rochester\, NY\, 14616\, United States
CATEGORIES:St. Charles Borromeo
END:VEVENT
BEGIN:VEVENT
DTSTART;TZID=America/New_York:20250220T130000
DTEND;TZID=America/New_York:20250220T143000
DTSTAMP:20260421T120505
CREATED:20250113T195137Z
LAST-MODIFIED:20250113T200928Z
UID:10000452-1740056400-1740061800@www.roccatholicsnorthwest.org
SUMMARY:Opening The Word Bible Study
DESCRIPTION:One of the requests from the Elements of The Catholic Mass sessions sponsored by the Parish Eucharistic Revival Team was a desire for more understanding of the Scriptures.\nThe “Opening The Word” Bible Study is a dynamic and exciting journey into the Sunday Mass readings that will help us more deeply understand the readings\, and apply the teachings of the Word of God to our daily life\, more deeply encounter Christ\, and live our Catholic faith in a more powerful way. \nNo need to register\, just come when you can. If you miss a session or two\, just come to the next one. Bibles are available in the library\, or you may bring your own. The readings are also in the previous Sunday bulletin\, if you wish to bring that along (we will also have some available\nin the library). \nJoin us as we dive into these eight Sunday readings.
URL:https://www.roccatholicsnorthwest.org/event/opening-the-word-bible-study/2025-02-20/1/
LOCATION:St. Charles Borromeo\, 3003 Dewey Ave\, Rochester\, NY\, 14616\, United States
CATEGORIES:St. Charles Borromeo
END:VEVENT
BEGIN:VEVENT
DTSTART;TZID=America/New_York:20250213T190000
DTEND;TZID=America/New_York:20250213T203000
DTSTAMP:20260421T120505
CREATED:20250113T195137Z
LAST-MODIFIED:20250113T200928Z
UID:10000511-1739473200-1739478600@www.roccatholicsnorthwest.org
SUMMARY:Opening The Word Bible Study
DESCRIPTION:One of the requests from the Elements of The Catholic Mass sessions sponsored by the Parish Eucharistic Revival Team was a desire for more understanding of the Scriptures.\nThe “Opening The Word” Bible Study is a dynamic and exciting journey into the Sunday Mass readings that will help us more deeply understand the readings\, and apply the teachings of the Word of God to our daily life\, more deeply encounter Christ\, and live our Catholic faith in a more powerful way. \nNo need to register\, just come when you can. If you miss a session or two\, just come to the next one. Bibles are available in the library\, or you may bring your own. The readings are also in the previous Sunday bulletin\, if you wish to bring that along (we will also have some available\nin the library). \nJoin us as we dive into these eight Sunday readings.
URL:https://www.roccatholicsnorthwest.org/event/opening-the-word-bible-study/2025-02-13/2/
LOCATION:St. Charles Borromeo\, 3003 Dewey Ave\, Rochester\, NY\, 14616\, United States
CATEGORIES:St. Charles Borromeo
END:VEVENT
BEGIN:VEVENT
DTSTART;TZID=America/New_York:20250213T130000
DTEND;TZID=America/New_York:20250213T143000
DTSTAMP:20260421T120505
CREATED:20250113T195137Z
LAST-MODIFIED:20250113T200928Z
UID:10000451-1739451600-1739457000@www.roccatholicsnorthwest.org
SUMMARY:Opening The Word Bible Study
DESCRIPTION:One of the requests from the Elements of The Catholic Mass sessions sponsored by the Parish Eucharistic Revival Team was a desire for more understanding of the Scriptures.\nThe “Opening The Word” Bible Study is a dynamic and exciting journey into the Sunday Mass readings that will help us more deeply understand the readings\, and apply the teachings of the Word of God to our daily life\, more deeply encounter Christ\, and live our Catholic faith in a more powerful way. \nNo need to register\, just come when you can. If you miss a session or two\, just come to the next one. Bibles are available in the library\, or you may bring your own. The readings are also in the previous Sunday bulletin\, if you wish to bring that along (we will also have some available\nin the library). \nJoin us as we dive into these eight Sunday readings.
URL:https://www.roccatholicsnorthwest.org/event/opening-the-word-bible-study/2025-02-13/1/
LOCATION:St. Charles Borromeo\, 3003 Dewey Ave\, Rochester\, NY\, 14616\, United States
CATEGORIES:St. Charles Borromeo
END:VEVENT
BEGIN:VEVENT
DTSTART;TZID=America/New_York:20250206T190000
DTEND;TZID=America/New_York:20250206T203000
DTSTAMP:20260421T120505
CREATED:20250113T195137Z
LAST-MODIFIED:20250113T200928Z
UID:10000510-1738868400-1738873800@www.roccatholicsnorthwest.org
SUMMARY:Opening The Word Bible Study
DESCRIPTION:One of the requests from the Elements of The Catholic Mass sessions sponsored by the Parish Eucharistic Revival Team was a desire for more understanding of the Scriptures.\nThe “Opening The Word” Bible Study is a dynamic and exciting journey into the Sunday Mass readings that will help us more deeply understand the readings\, and apply the teachings of the Word of God to our daily life\, more deeply encounter Christ\, and live our Catholic faith in a more powerful way. \nNo need to register\, just come when you can. If you miss a session or two\, just come to the next one. Bibles are available in the library\, or you may bring your own. The readings are also in the previous Sunday bulletin\, if you wish to bring that along (we will also have some available\nin the library). \nJoin us as we dive into these eight Sunday readings.
URL:https://www.roccatholicsnorthwest.org/event/opening-the-word-bible-study/2025-02-06/2/
LOCATION:St. Charles Borromeo\, 3003 Dewey Ave\, Rochester\, NY\, 14616\, United States
CATEGORIES:St. Charles Borromeo
END:VEVENT
BEGIN:VEVENT
DTSTART;TZID=America/New_York:20250206T130000
DTEND;TZID=America/New_York:20250206T143000
DTSTAMP:20260421T120505
CREATED:20250113T195137Z
LAST-MODIFIED:20250113T200928Z
UID:10000450-1738846800-1738852200@www.roccatholicsnorthwest.org
SUMMARY:Opening The Word Bible Study
DESCRIPTION:One of the requests from the Elements of The Catholic Mass sessions sponsored by the Parish Eucharistic Revival Team was a desire for more understanding of the Scriptures.\nThe “Opening The Word” Bible Study is a dynamic and exciting journey into the Sunday Mass readings that will help us more deeply understand the readings\, and apply the teachings of the Word of God to our daily life\, more deeply encounter Christ\, and live our Catholic faith in a more powerful way. \nNo need to register\, just come when you can. If you miss a session or two\, just come to the next one. Bibles are available in the library\, or you may bring your own. The readings are also in the previous Sunday bulletin\, if you wish to bring that along (we will also have some available\nin the library). \nJoin us as we dive into these eight Sunday readings.
URL:https://www.roccatholicsnorthwest.org/event/opening-the-word-bible-study/2025-02-06/1/
LOCATION:St. Charles Borromeo\, 3003 Dewey Ave\, Rochester\, NY\, 14616\, United States
CATEGORIES:St. Charles Borromeo
END:VEVENT
BEGIN:VEVENT
DTSTART;TZID=America/New_York:20250130T190000
DTEND;TZID=America/New_York:20250130T203000
DTSTAMP:20260421T120505
CREATED:20250113T195137Z
LAST-MODIFIED:20250113T200928Z
UID:10000509-1738263600-1738269000@www.roccatholicsnorthwest.org
SUMMARY:Opening The Word Bible Study
DESCRIPTION:One of the requests from the Elements of The Catholic Mass sessions sponsored by the Parish Eucharistic Revival Team was a desire for more understanding of the Scriptures.\nThe “Opening The Word” Bible Study is a dynamic and exciting journey into the Sunday Mass readings that will help us more deeply understand the readings\, and apply the teachings of the Word of God to our daily life\, more deeply encounter Christ\, and live our Catholic faith in a more powerful way. \nNo need to register\, just come when you can. If you miss a session or two\, just come to the next one. Bibles are available in the library\, or you may bring your own. The readings are also in the previous Sunday bulletin\, if you wish to bring that along (we will also have some available\nin the library). \nJoin us as we dive into these eight Sunday readings.
URL:https://www.roccatholicsnorthwest.org/event/opening-the-word-bible-study/2025-01-30/2/
LOCATION:St. Charles Borromeo\, 3003 Dewey Ave\, Rochester\, NY\, 14616\, United States
CATEGORIES:St. Charles Borromeo
END:VEVENT
BEGIN:VEVENT
DTSTART;TZID=America/New_York:20250130T130000
DTEND;TZID=America/New_York:20250130T143000
DTSTAMP:20260421T120505
CREATED:20250113T195137Z
LAST-MODIFIED:20250113T200928Z
UID:10000449-1738242000-1738247400@www.roccatholicsnorthwest.org
SUMMARY:Opening The Word Bible Study
DESCRIPTION:One of the requests from the Elements of The Catholic Mass sessions sponsored by the Parish Eucharistic Revival Team was a desire for more understanding of the Scriptures.\nThe “Opening The Word” Bible Study is a dynamic and exciting journey into the Sunday Mass readings that will help us more deeply understand the readings\, and apply the teachings of the Word of God to our daily life\, more deeply encounter Christ\, and live our Catholic faith in a more powerful way. \nNo need to register\, just come when you can. If you miss a session or two\, just come to the next one. Bibles are available in the library\, or you may bring your own. The readings are also in the previous Sunday bulletin\, if you wish to bring that along (we will also have some available\nin the library). \nJoin us as we dive into these eight Sunday readings.
URL:https://www.roccatholicsnorthwest.org/event/opening-the-word-bible-study/2025-01-30/1/
LOCATION:St. Charles Borromeo\, 3003 Dewey Ave\, Rochester\, NY\, 14616\, United States
CATEGORIES:St. Charles Borromeo
END:VEVENT
BEGIN:VEVENT
DTSTART;TZID=America/New_York:20250123T190000
DTEND;TZID=America/New_York:20250123T203000
DTSTAMP:20260421T120505
CREATED:20250113T195137Z
LAST-MODIFIED:20250113T200928Z
UID:10000508-1737658800-1737664200@www.roccatholicsnorthwest.org
SUMMARY:Opening The Word Bible Study
DESCRIPTION:One of the requests from the Elements of The Catholic Mass sessions sponsored by the Parish Eucharistic Revival Team was a desire for more understanding of the Scriptures.\nThe “Opening The Word” Bible Study is a dynamic and exciting journey into the Sunday Mass readings that will help us more deeply understand the readings\, and apply the teachings of the Word of God to our daily life\, more deeply encounter Christ\, and live our Catholic faith in a more powerful way. \nNo need to register\, just come when you can. If you miss a session or two\, just come to the next one. Bibles are available in the library\, or you may bring your own. The readings are also in the previous Sunday bulletin\, if you wish to bring that along (we will also have some available\nin the library). \nJoin us as we dive into these eight Sunday readings.
URL:https://www.roccatholicsnorthwest.org/event/opening-the-word-bible-study/2025-01-23/2/
LOCATION:St. Charles Borromeo\, 3003 Dewey Ave\, Rochester\, NY\, 14616\, United States
CATEGORIES:St. Charles Borromeo
END:VEVENT
BEGIN:VEVENT
DTSTART;TZID=America/New_York:20250123T130000
DTEND;TZID=America/New_York:20250123T143000
DTSTAMP:20260421T120505
CREATED:20250113T195137Z
LAST-MODIFIED:20250113T200928Z
UID:10000448-1737637200-1737642600@www.roccatholicsnorthwest.org
SUMMARY:Opening The Word Bible Study
DESCRIPTION:One of the requests from the Elements of The Catholic Mass sessions sponsored by the Parish Eucharistic Revival Team was a desire for more understanding of the Scriptures.\nThe “Opening The Word” Bible Study is a dynamic and exciting journey into the Sunday Mass readings that will help us more deeply understand the readings\, and apply the teachings of the Word of God to our daily life\, more deeply encounter Christ\, and live our Catholic faith in a more powerful way. \nNo need to register\, just come when you can. If you miss a session or two\, just come to the next one. Bibles are available in the library\, or you may bring your own. The readings are also in the previous Sunday bulletin\, if you wish to bring that along (we will also have some available\nin the library). \nJoin us as we dive into these eight Sunday readings.
URL:https://www.roccatholicsnorthwest.org/event/opening-the-word-bible-study/2025-01-23/1/
LOCATION:St. Charles Borromeo\, 3003 Dewey Ave\, Rochester\, NY\, 14616\, United States
CATEGORIES:St. Charles Borromeo
END:VEVENT
BEGIN:VEVENT
DTSTART;TZID=America/New_York:20250116T190000
DTEND;TZID=America/New_York:20250116T203000
DTSTAMP:20260421T120505
CREATED:20250113T195137Z
LAST-MODIFIED:20250113T200928Z
UID:10000507-1737054000-1737059400@www.roccatholicsnorthwest.org
SUMMARY:Opening The Word Bible Study
DESCRIPTION:One of the requests from the Elements of The Catholic Mass sessions sponsored by the Parish Eucharistic Revival Team was a desire for more understanding of the Scriptures.\nThe “Opening The Word” Bible Study is a dynamic and exciting journey into the Sunday Mass readings that will help us more deeply understand the readings\, and apply the teachings of the Word of God to our daily life\, more deeply encounter Christ\, and live our Catholic faith in a more powerful way. \nNo need to register\, just come when you can. If you miss a session or two\, just come to the next one. Bibles are available in the library\, or you may bring your own. The readings are also in the previous Sunday bulletin\, if you wish to bring that along (we will also have some available\nin the library). \nJoin us as we dive into these eight Sunday readings.
URL:https://www.roccatholicsnorthwest.org/event/opening-the-word-bible-study/2025-01-16/2/
LOCATION:St. Charles Borromeo\, 3003 Dewey Ave\, Rochester\, NY\, 14616\, United States
CATEGORIES:St. Charles Borromeo
END:VEVENT
BEGIN:VEVENT
DTSTART;TZID=America/New_York:20250116T130000
DTEND;TZID=America/New_York:20250116T143000
DTSTAMP:20260421T120505
CREATED:20250113T195137Z
LAST-MODIFIED:20250113T200928Z
UID:10000447-1737032400-1737037800@www.roccatholicsnorthwest.org
SUMMARY:Opening The Word Bible Study
DESCRIPTION:One of the requests from the Elements of The Catholic Mass sessions sponsored by the Parish Eucharistic Revival Team was a desire for more understanding of the Scriptures.\nThe “Opening The Word” Bible Study is a dynamic and exciting journey into the Sunday Mass readings that will help us more deeply understand the readings\, and apply the teachings of the Word of God to our daily life\, more deeply encounter Christ\, and live our Catholic faith in a more powerful way. \nNo need to register\, just come when you can. If you miss a session or two\, just come to the next one. Bibles are available in the library\, or you may bring your own. The readings are also in the previous Sunday bulletin\, if you wish to bring that along (we will also have some available\nin the library). \nJoin us as we dive into these eight Sunday readings.
URL:https://www.roccatholicsnorthwest.org/event/opening-the-word-bible-study/2025-01-16/1/
LOCATION:St. Charles Borromeo\, 3003 Dewey Ave\, Rochester\, NY\, 14616\, United States
CATEGORIES:St. Charles Borromeo
END:VEVENT
BEGIN:VEVENT
DTSTART;TZID=America/New_York:20250109T130000
DTEND;TZID=America/New_York:20250109T143000
DTSTAMP:20260421T120505
CREATED:20250113T195137Z
LAST-MODIFIED:20250113T200928Z
UID:10000446-1736427600-1736433000@www.roccatholicsnorthwest.org
SUMMARY:Opening The Word Bible Study
DESCRIPTION:One of the requests from the Elements of The Catholic Mass sessions sponsored by the Parish Eucharistic Revival Team was a desire for more understanding of the Scriptures.\nThe “Opening The Word” Bible Study is a dynamic and exciting journey into the Sunday Mass readings that will help us more deeply understand the readings\, and apply the teachings of the Word of God to our daily life\, more deeply encounter Christ\, and live our Catholic faith in a more powerful way. \nNo need to register\, just come when you can. If you miss a session or two\, just come to the next one. Bibles are available in the library\, or you may bring your own. The readings are also in the previous Sunday bulletin\, if you wish to bring that along (we will also have some available\nin the library). \nJoin us as we dive into these eight Sunday readings.
URL:https://www.roccatholicsnorthwest.org/event/opening-the-word-bible-study/2025-01-09/
LOCATION:St. Charles Borromeo\, 3003 Dewey Ave\, Rochester\, NY\, 14616\, United States
CATEGORIES:St. Charles Borromeo
END:VEVENT
BEGIN:VEVENT
DTSTART;TZID=America/New_York:20241120T183000
DTEND;TZID=America/New_York:20241120T203000
DTSTAMP:20260421T120505
CREATED:20241106T185404Z
LAST-MODIFIED:20241106T185404Z
UID:10000309-1732127400-1732134600@www.roccatholicsnorthwest.org
SUMMARY:Parish Town Meeting
DESCRIPTION:
URL:https://www.roccatholicsnorthwest.org/event/parish-town-meeting/2024-11-20/2/
LOCATION:St. Charles Borromeo\, 3003 Dewey Ave\, Rochester\, NY\, 14616\, United States
CATEGORIES:Holy Cross,Our Mother of Sorrows,St. Charles Borromeo,St. John the Evangelist,St. Lawrence,St. Leo the Great,St. Mark's
END:VEVENT
BEGIN:VEVENT
DTSTART;TZID=America/New_York:20241120T133000
DTEND;TZID=America/New_York:20241120T153000
DTSTAMP:20260421T120505
CREATED:20241106T185404Z
LAST-MODIFIED:20241106T185404Z
UID:10000308-1732109400-1732116600@www.roccatholicsnorthwest.org
SUMMARY:Parish Town Meeting
DESCRIPTION:
URL:https://www.roccatholicsnorthwest.org/event/parish-town-meeting/2024-11-20/1/
LOCATION:St. Charles Borromeo\, 3003 Dewey Ave\, Rochester\, NY\, 14616\, United States
CATEGORIES:Holy Cross,Our Mother of Sorrows,St. Charles Borromeo,St. John the Evangelist,St. Lawrence,St. Leo the Great,St. Mark's
END:VEVENT
END:VCALENDAR