BEGIN:VCALENDAR
VERSION:2.0
PRODID:-//ROC Catholics Northwest - ECPv6.15.11//NONSGML v1.0//EN
CALSCALE:GREGORIAN
METHOD:PUBLISH
X-WR-CALNAME:ROC Catholics Northwest
X-ORIGINAL-URL:https://www.roccatholicsnorthwest.org
X-WR-CALDESC:Events for ROC Catholics Northwest
REFRESH-INTERVAL;VALUE=DURATION:PT1H
X-Robots-Tag:noindex
X-PUBLISHED-TTL:PT1H
BEGIN:VTIMEZONE
TZID:America/New_York
BEGIN:DAYLIGHT
TZOFFSETFROM:-0500
TZOFFSETTO:-0400
TZNAME:EDT
DTSTART:20240310T070000
END:DAYLIGHT
BEGIN:STANDARD
TZOFFSETFROM:-0400
TZOFFSETTO:-0500
TZNAME:EST
DTSTART:20241103T060000
END:STANDARD
BEGIN:DAYLIGHT
TZOFFSETFROM:-0500
TZOFFSETTO:-0400
TZNAME:EDT
DTSTART:20250309T070000
END:DAYLIGHT
BEGIN:STANDARD
TZOFFSETFROM:-0400
TZOFFSETTO:-0500
TZNAME:EST
DTSTART:20251102T060000
END:STANDARD
BEGIN:DAYLIGHT
TZOFFSETFROM:-0500
TZOFFSETTO:-0400
TZNAME:EDT
DTSTART:20260308T070000
END:DAYLIGHT
BEGIN:STANDARD
TZOFFSETFROM:-0400
TZOFFSETTO:-0500
TZNAME:EST
DTSTART:20261101T060000
END:STANDARD
END:VTIMEZONE
BEGIN:VEVENT
DTSTART;TZID=America/New_York:20251202T140000
DTEND;TZID=America/New_York:20251202T153000
DTSTAMP:20260421T045607
CREATED:20251104T161935Z
LAST-MODIFIED:20251104T161935Z
UID:10001488-1764684000-1764689400@www.roccatholicsnorthwest.org
SUMMARY:A Coming Christ in Advent Bible Study
DESCRIPTION:Bible Study offered in the St. Charles Borromeo Ministry Center\nFour sessions: Tuesdays—November 11\, 18\, 25 and December 2\nOffered two times: 2:00 pm and 7:00 pm\nPresenter: Deacon Richard Lombard
URL:https://www.roccatholicsnorthwest.org/event/a-coming-christ-in-advent-bible-study/2025-12-02/
LOCATION:St. Charles Borromeo\, 3003 Dewey Ave\, Rochester\, NY\, 14616\, United States
CATEGORIES:St. Charles Borromeo
END:VEVENT
BEGIN:VEVENT
DTSTART;TZID=America/New_York:20251126T140000
DTEND;TZID=America/New_York:20251126T153000
DTSTAMP:20260421T045607
CREATED:20251021T135145Z
LAST-MODIFIED:20251021T140038Z
UID:10001482-1764165600-1764171000@www.roccatholicsnorthwest.org
SUMMARY:Bible Study at St. Charles Borromeo
DESCRIPTION:Bible Studies St. Charles Borromeo \n 
URL:https://www.roccatholicsnorthwest.org/event/bible-study-at-st-charles-borromeo/2025-11-26/
LOCATION:St. Charles Borromeo\, 3003 Dewey Ave\, Rochester\, NY\, 14616\, United States
CATEGORIES:St. Charles Borromeo
END:VEVENT
BEGIN:VEVENT
DTSTART;TZID=America/New_York:20251125T140000
DTEND;TZID=America/New_York:20251125T153000
DTSTAMP:20260421T045607
CREATED:20251104T161935Z
LAST-MODIFIED:20251104T161935Z
UID:10001487-1764079200-1764084600@www.roccatholicsnorthwest.org
SUMMARY:A Coming Christ in Advent Bible Study
DESCRIPTION:Bible Study offered in the St. Charles Borromeo Ministry Center\nFour sessions: Tuesdays—November 11\, 18\, 25 and December 2\nOffered two times: 2:00 pm and 7:00 pm\nPresenter: Deacon Richard Lombard
URL:https://www.roccatholicsnorthwest.org/event/a-coming-christ-in-advent-bible-study/2025-11-25/
LOCATION:St. Charles Borromeo\, 3003 Dewey Ave\, Rochester\, NY\, 14616\, United States
CATEGORIES:St. Charles Borromeo
END:VEVENT
BEGIN:VEVENT
DTSTART;TZID=America/New_York:20251119T140000
DTEND;TZID=America/New_York:20251119T153000
DTSTAMP:20260421T045607
CREATED:20251021T135145Z
LAST-MODIFIED:20251021T140038Z
UID:10001428-1763560800-1763566200@www.roccatholicsnorthwest.org
SUMMARY:Bible Study at St. Charles Borromeo
DESCRIPTION:Bible Studies St. Charles Borromeo \n 
URL:https://www.roccatholicsnorthwest.org/event/bible-study-at-st-charles-borromeo/2025-11-19/
LOCATION:St. Charles Borromeo\, 3003 Dewey Ave\, Rochester\, NY\, 14616\, United States
CATEGORIES:St. Charles Borromeo
END:VEVENT
BEGIN:VEVENT
DTSTART;TZID=America/New_York:20251118T140000
DTEND;TZID=America/New_York:20251118T153000
DTSTAMP:20260421T045607
CREATED:20251104T161935Z
LAST-MODIFIED:20251104T161935Z
UID:10001486-1763474400-1763479800@www.roccatholicsnorthwest.org
SUMMARY:A Coming Christ in Advent Bible Study
DESCRIPTION:Bible Study offered in the St. Charles Borromeo Ministry Center\nFour sessions: Tuesdays—November 11\, 18\, 25 and December 2\nOffered two times: 2:00 pm and 7:00 pm\nPresenter: Deacon Richard Lombard
URL:https://www.roccatholicsnorthwest.org/event/a-coming-christ-in-advent-bible-study/2025-11-18/
LOCATION:St. Charles Borromeo\, 3003 Dewey Ave\, Rochester\, NY\, 14616\, United States
CATEGORIES:St. Charles Borromeo
END:VEVENT
BEGIN:VEVENT
DTSTART;TZID=America/New_York:20251112T140000
DTEND;TZID=America/New_York:20251112T153000
DTSTAMP:20260421T045607
CREATED:20251021T135145Z
LAST-MODIFIED:20251021T140038Z
UID:10001427-1762956000-1762961400@www.roccatholicsnorthwest.org
SUMMARY:Bible Study at St. Charles Borromeo
DESCRIPTION:Bible Studies St. Charles Borromeo \n 
URL:https://www.roccatholicsnorthwest.org/event/bible-study-at-st-charles-borromeo/2025-11-12/
LOCATION:St. Charles Borromeo\, 3003 Dewey Ave\, Rochester\, NY\, 14616\, United States
CATEGORIES:St. Charles Borromeo
END:VEVENT
BEGIN:VEVENT
DTSTART;TZID=America/New_York:20251111T140000
DTEND;TZID=America/New_York:20251111T153000
DTSTAMP:20260421T045607
CREATED:20251104T161935Z
LAST-MODIFIED:20251104T161935Z
UID:10001485-1762869600-1762875000@www.roccatholicsnorthwest.org
SUMMARY:A Coming Christ in Advent Bible Study
DESCRIPTION:Bible Study offered in the St. Charles Borromeo Ministry Center\nFour sessions: Tuesdays—November 11\, 18\, 25 and December 2\nOffered two times: 2:00 pm and 7:00 pm\nPresenter: Deacon Richard Lombard
URL:https://www.roccatholicsnorthwest.org/event/a-coming-christ-in-advent-bible-study/2025-11-11/
LOCATION:St. Charles Borromeo\, 3003 Dewey Ave\, Rochester\, NY\, 14616\, United States
CATEGORIES:St. Charles Borromeo
END:VEVENT
BEGIN:VEVENT
DTSTART;TZID=America/New_York:20251105T140000
DTEND;TZID=America/New_York:20251105T153000
DTSTAMP:20260421T045607
CREATED:20251021T135145Z
LAST-MODIFIED:20251021T140038Z
UID:10001426-1762351200-1762356600@www.roccatholicsnorthwest.org
SUMMARY:Bible Study at St. Charles Borromeo
DESCRIPTION:Bible Studies St. Charles Borromeo \n 
URL:https://www.roccatholicsnorthwest.org/event/bible-study-at-st-charles-borromeo/2025-11-05/
LOCATION:St. Charles Borromeo\, 3003 Dewey Ave\, Rochester\, NY\, 14616\, United States
CATEGORIES:St. Charles Borromeo
END:VEVENT
BEGIN:VEVENT
DTSTART;TZID=America/New_York:20251030T130000
DTEND;TZID=America/New_York:20251030T153000
DTSTAMP:20260421T045607
CREATED:20251021T135926Z
LAST-MODIFIED:20251021T140010Z
UID:10001483-1761829200-1761838200@www.roccatholicsnorthwest.org
SUMMARY:Beginner's Bible Journaling Class
DESCRIPTION:Beginner Bible Studies St. Charles Borromeo
URL:https://www.roccatholicsnorthwest.org/event/beginners-bible-journaling-class/
LOCATION:St. Charles Borromeo\, 3003 Dewey Ave\, Rochester\, NY\, 14616\, United States
CATEGORIES:St. Charles Borromeo
END:VEVENT
BEGIN:VEVENT
DTSTART;TZID=America/New_York:20251029T140000
DTEND;TZID=America/New_York:20251029T153000
DTSTAMP:20260421T045607
CREATED:20251021T135145Z
LAST-MODIFIED:20251021T140038Z
UID:10001425-1761746400-1761751800@www.roccatholicsnorthwest.org
SUMMARY:Bible Study at St. Charles Borromeo
DESCRIPTION:Bible Studies St. Charles Borromeo \n 
URL:https://www.roccatholicsnorthwest.org/event/bible-study-at-st-charles-borromeo/2025-10-29/
LOCATION:St. Charles Borromeo\, 3003 Dewey Ave\, Rochester\, NY\, 14616\, United States
CATEGORIES:St. Charles Borromeo
END:VEVENT
BEGIN:VEVENT
DTSTART;TZID=America/New_York:20251022T140000
DTEND;TZID=America/New_York:20251022T153000
DTSTAMP:20260421T045607
CREATED:20251021T135145Z
LAST-MODIFIED:20251021T140038Z
UID:10001424-1761141600-1761147000@www.roccatholicsnorthwest.org
SUMMARY:Bible Study at St. Charles Borromeo
DESCRIPTION:Bible Studies St. Charles Borromeo \n 
URL:https://www.roccatholicsnorthwest.org/event/bible-study-at-st-charles-borromeo/2025-10-22/
LOCATION:St. Charles Borromeo\, 3003 Dewey Ave\, Rochester\, NY\, 14616\, United States
CATEGORIES:St. Charles Borromeo
END:VEVENT
BEGIN:VEVENT
DTSTART;TZID=America/New_York:20251015T140000
DTEND;TZID=America/New_York:20251015T153000
DTSTAMP:20260421T045607
CREATED:20251021T135145Z
LAST-MODIFIED:20251021T140038Z
UID:10001423-1760536800-1760542200@www.roccatholicsnorthwest.org
SUMMARY:Bible Study at St. Charles Borromeo
DESCRIPTION:Bible Studies St. Charles Borromeo \n 
URL:https://www.roccatholicsnorthwest.org/event/bible-study-at-st-charles-borromeo/2025-10-15/
LOCATION:St. Charles Borromeo\, 3003 Dewey Ave\, Rochester\, NY\, 14616\, United States
CATEGORIES:St. Charles Borromeo
END:VEVENT
BEGIN:VEVENT
DTSTART;TZID=America/New_York:20251008T140000
DTEND;TZID=America/New_York:20251008T153000
DTSTAMP:20260421T045607
CREATED:20251021T135145Z
LAST-MODIFIED:20251021T140038Z
UID:10001422-1759932000-1759937400@www.roccatholicsnorthwest.org
SUMMARY:Bible Study at St. Charles Borromeo
DESCRIPTION:Bible Studies St. Charles Borromeo \n 
URL:https://www.roccatholicsnorthwest.org/event/bible-study-at-st-charles-borromeo/2025-10-08/
LOCATION:St. Charles Borromeo\, 3003 Dewey Ave\, Rochester\, NY\, 14616\, United States
CATEGORIES:St. Charles Borromeo
END:VEVENT
BEGIN:VEVENT
DTSTART;TZID=America/New_York:20251004T110000
DTEND;TZID=America/New_York:20251004T153000
DTSTAMP:20260421T045607
CREATED:20250922T182713Z
LAST-MODIFIED:20250922T183102Z
UID:10000731-1759575600-1759591800@www.roccatholicsnorthwest.org
SUMMARY:Ladies Luncheon
DESCRIPTION:14th Annual St. Charles Borromeo Ladies Luncheon and Fundraiser.\nClick here for information —> Ladies Luncheon 2025
URL:https://www.roccatholicsnorthwest.org/event/ladies-luncheon/
LOCATION:St. Charles Borromeo\, 3003 Dewey Ave\, Rochester\, NY\, 14616\, United States
CATEGORIES:St. Charles Borromeo
END:VEVENT
BEGIN:VEVENT
DTSTART;TZID=America/New_York:20250408T130000
DTEND;TZID=America/New_York:20250408T150000
DTSTAMP:20260421T045607
CREATED:20250210T144043Z
LAST-MODIFIED:20250210T144043Z
UID:10000586-1744117200-1744124400@www.roccatholicsnorthwest.org
SUMMARY:Lenten Bible Study
DESCRIPTION:Calling all Pilgrims of Hope!\nJoin us for a Jubilee Bible Study! \nBible Study Information \n 
URL:https://www.roccatholicsnorthwest.org/event/lenten-bible-study/2025-04-08/
LOCATION:St. Charles Borromeo\, 3003 Dewey Ave\, Rochester\, NY\, 14616\, United States
CATEGORIES:St. Charles Borromeo
END:VEVENT
BEGIN:VEVENT
DTSTART;TZID=America/New_York:20250401T130000
DTEND;TZID=America/New_York:20250401T150000
DTSTAMP:20260421T045607
CREATED:20250210T144043Z
LAST-MODIFIED:20250210T144043Z
UID:10000585-1743512400-1743519600@www.roccatholicsnorthwest.org
SUMMARY:Lenten Bible Study
DESCRIPTION:Calling all Pilgrims of Hope!\nJoin us for a Jubilee Bible Study! \nBible Study Information \n 
URL:https://www.roccatholicsnorthwest.org/event/lenten-bible-study/2025-04-01/
LOCATION:St. Charles Borromeo\, 3003 Dewey Ave\, Rochester\, NY\, 14616\, United States
CATEGORIES:St. Charles Borromeo
END:VEVENT
BEGIN:VEVENT
DTSTART;TZID=America/New_York:20250326T183000
DTEND;TZID=America/New_York:20250326T193000
DTSTAMP:20260421T045607
CREATED:20250210T150112Z
LAST-MODIFIED:20250210T150112Z
UID:10000595-1743013800-1743017400@www.roccatholicsnorthwest.org
SUMMARY:Lenten Retreat - St. Charles Borromeo
DESCRIPTION:Encountering God in the Ordinary.\nWe are Missioned into the Future \n \n 
URL:https://www.roccatholicsnorthwest.org/event/lenten-retreat-st-charles-borromeo/2025-03-26/
LOCATION:St. Charles Borromeo\, 3003 Dewey Ave\, Rochester\, NY\, 14616\, United States
CATEGORIES:St. Charles Borromeo
END:VEVENT
BEGIN:VEVENT
DTSTART;TZID=America/New_York:20250325T183000
DTEND;TZID=America/New_York:20250325T193000
DTSTAMP:20260421T045607
CREATED:20250210T150112Z
LAST-MODIFIED:20250210T150112Z
UID:10000594-1742927400-1742931000@www.roccatholicsnorthwest.org
SUMMARY:Lenten Retreat - St. Charles Borromeo
DESCRIPTION:Encountering God in the Ordinary.\nWe are Missioned into the Future \n \n 
URL:https://www.roccatholicsnorthwest.org/event/lenten-retreat-st-charles-borromeo/2025-03-25/
LOCATION:St. Charles Borromeo\, 3003 Dewey Ave\, Rochester\, NY\, 14616\, United States
CATEGORIES:St. Charles Borromeo
END:VEVENT
BEGIN:VEVENT
DTSTART;TZID=America/New_York:20250325T130000
DTEND;TZID=America/New_York:20250325T150000
DTSTAMP:20260421T045607
CREATED:20250210T144043Z
LAST-MODIFIED:20250210T144043Z
UID:10000584-1742907600-1742914800@www.roccatholicsnorthwest.org
SUMMARY:Lenten Bible Study
DESCRIPTION:Calling all Pilgrims of Hope!\nJoin us for a Jubilee Bible Study! \nBible Study Information \n 
URL:https://www.roccatholicsnorthwest.org/event/lenten-bible-study/2025-03-25/
LOCATION:St. Charles Borromeo\, 3003 Dewey Ave\, Rochester\, NY\, 14616\, United States
CATEGORIES:St. Charles Borromeo
END:VEVENT
BEGIN:VEVENT
DTSTART;TZID=America/New_York:20250324T183000
DTEND;TZID=America/New_York:20250324T193000
DTSTAMP:20260421T045607
CREATED:20250210T150112Z
LAST-MODIFIED:20250210T150112Z
UID:10000593-1742841000-1742844600@www.roccatholicsnorthwest.org
SUMMARY:Lenten Retreat - St. Charles Borromeo
DESCRIPTION:Encountering God in the Ordinary.\nWe are Missioned into the Future \n \n 
URL:https://www.roccatholicsnorthwest.org/event/lenten-retreat-st-charles-borromeo/2025-03-24/
LOCATION:St. Charles Borromeo\, 3003 Dewey Ave\, Rochester\, NY\, 14616\, United States
CATEGORIES:St. Charles Borromeo
END:VEVENT
BEGIN:VEVENT
DTSTART;TZID=America/New_York:20250318T130000
DTEND;TZID=America/New_York:20250318T150000
DTSTAMP:20260421T045607
CREATED:20250210T144043Z
LAST-MODIFIED:20250210T144043Z
UID:10000583-1742302800-1742310000@www.roccatholicsnorthwest.org
SUMMARY:Lenten Bible Study
DESCRIPTION:Calling all Pilgrims of Hope!\nJoin us for a Jubilee Bible Study! \nBible Study Information \n 
URL:https://www.roccatholicsnorthwest.org/event/lenten-bible-study/2025-03-18/
LOCATION:St. Charles Borromeo\, 3003 Dewey Ave\, Rochester\, NY\, 14616\, United States
CATEGORIES:St. Charles Borromeo
END:VEVENT
BEGIN:VEVENT
DTSTART;TZID=America/New_York:20250311T130000
DTEND;TZID=America/New_York:20250311T150000
DTSTAMP:20260421T045607
CREATED:20250210T144043Z
LAST-MODIFIED:20250210T144043Z
UID:10000582-1741698000-1741705200@www.roccatholicsnorthwest.org
SUMMARY:Lenten Bible Study
DESCRIPTION:Calling all Pilgrims of Hope!\nJoin us for a Jubilee Bible Study! \nBible Study Information \n 
URL:https://www.roccatholicsnorthwest.org/event/lenten-bible-study/2025-03-11/
LOCATION:St. Charles Borromeo\, 3003 Dewey Ave\, Rochester\, NY\, 14616\, United States
CATEGORIES:St. Charles Borromeo
END:VEVENT
BEGIN:VEVENT
DTSTART;TZID=America/New_York:20250304T130000
DTEND;TZID=America/New_York:20250304T150000
DTSTAMP:20260421T045607
CREATED:20250210T144043Z
LAST-MODIFIED:20250210T144043Z
UID:10000581-1741093200-1741100400@www.roccatholicsnorthwest.org
SUMMARY:Lenten Bible Study
DESCRIPTION:Calling all Pilgrims of Hope!\nJoin us for a Jubilee Bible Study! \nBible Study Information \n 
URL:https://www.roccatholicsnorthwest.org/event/lenten-bible-study/2025-03-04/
LOCATION:St. Charles Borromeo\, 3003 Dewey Ave\, Rochester\, NY\, 14616\, United States
CATEGORIES:St. Charles Borromeo
END:VEVENT
BEGIN:VEVENT
DTSTART;TZID=America/New_York:20250227T190000
DTEND;TZID=America/New_York:20250227T203000
DTSTAMP:20260421T045607
CREATED:20250113T195137Z
LAST-MODIFIED:20250113T200928Z
UID:10000513-1740682800-1740688200@www.roccatholicsnorthwest.org
SUMMARY:Opening The Word Bible Study
DESCRIPTION:One of the requests from the Elements of The Catholic Mass sessions sponsored by the Parish Eucharistic Revival Team was a desire for more understanding of the Scriptures.\nThe “Opening The Word” Bible Study is a dynamic and exciting journey into the Sunday Mass readings that will help us more deeply understand the readings\, and apply the teachings of the Word of God to our daily life\, more deeply encounter Christ\, and live our Catholic faith in a more powerful way. \nNo need to register\, just come when you can. If you miss a session or two\, just come to the next one. Bibles are available in the library\, or you may bring your own. The readings are also in the previous Sunday bulletin\, if you wish to bring that along (we will also have some available\nin the library). \nJoin us as we dive into these eight Sunday readings.
URL:https://www.roccatholicsnorthwest.org/event/opening-the-word-bible-study/2025-02-27/2/
LOCATION:St. Charles Borromeo\, 3003 Dewey Ave\, Rochester\, NY\, 14616\, United States
CATEGORIES:St. Charles Borromeo
END:VEVENT
BEGIN:VEVENT
DTSTART;TZID=America/New_York:20250227T130000
DTEND;TZID=America/New_York:20250227T143000
DTSTAMP:20260421T045607
CREATED:20250113T195137Z
LAST-MODIFIED:20250113T200928Z
UID:10000453-1740661200-1740666600@www.roccatholicsnorthwest.org
SUMMARY:Opening The Word Bible Study
DESCRIPTION:One of the requests from the Elements of The Catholic Mass sessions sponsored by the Parish Eucharistic Revival Team was a desire for more understanding of the Scriptures.\nThe “Opening The Word” Bible Study is a dynamic and exciting journey into the Sunday Mass readings that will help us more deeply understand the readings\, and apply the teachings of the Word of God to our daily life\, more deeply encounter Christ\, and live our Catholic faith in a more powerful way. \nNo need to register\, just come when you can. If you miss a session or two\, just come to the next one. Bibles are available in the library\, or you may bring your own. The readings are also in the previous Sunday bulletin\, if you wish to bring that along (we will also have some available\nin the library). \nJoin us as we dive into these eight Sunday readings.
URL:https://www.roccatholicsnorthwest.org/event/opening-the-word-bible-study/2025-02-27/1/
LOCATION:St. Charles Borromeo\, 3003 Dewey Ave\, Rochester\, NY\, 14616\, United States
CATEGORIES:St. Charles Borromeo
END:VEVENT
BEGIN:VEVENT
DTSTART;TZID=America/New_York:20250220T190000
DTEND;TZID=America/New_York:20250220T203000
DTSTAMP:20260421T045607
CREATED:20250113T195137Z
LAST-MODIFIED:20250113T200928Z
UID:10000512-1740078000-1740083400@www.roccatholicsnorthwest.org
SUMMARY:Opening The Word Bible Study
DESCRIPTION:One of the requests from the Elements of The Catholic Mass sessions sponsored by the Parish Eucharistic Revival Team was a desire for more understanding of the Scriptures.\nThe “Opening The Word” Bible Study is a dynamic and exciting journey into the Sunday Mass readings that will help us more deeply understand the readings\, and apply the teachings of the Word of God to our daily life\, more deeply encounter Christ\, and live our Catholic faith in a more powerful way. \nNo need to register\, just come when you can. If you miss a session or two\, just come to the next one. Bibles are available in the library\, or you may bring your own. The readings are also in the previous Sunday bulletin\, if you wish to bring that along (we will also have some available\nin the library). \nJoin us as we dive into these eight Sunday readings.
URL:https://www.roccatholicsnorthwest.org/event/opening-the-word-bible-study/2025-02-20/2/
LOCATION:St. Charles Borromeo\, 3003 Dewey Ave\, Rochester\, NY\, 14616\, United States
CATEGORIES:St. Charles Borromeo
END:VEVENT
BEGIN:VEVENT
DTSTART;TZID=America/New_York:20250220T130000
DTEND;TZID=America/New_York:20250220T143000
DTSTAMP:20260421T045607
CREATED:20250113T195137Z
LAST-MODIFIED:20250113T200928Z
UID:10000452-1740056400-1740061800@www.roccatholicsnorthwest.org
SUMMARY:Opening The Word Bible Study
DESCRIPTION:One of the requests from the Elements of The Catholic Mass sessions sponsored by the Parish Eucharistic Revival Team was a desire for more understanding of the Scriptures.\nThe “Opening The Word” Bible Study is a dynamic and exciting journey into the Sunday Mass readings that will help us more deeply understand the readings\, and apply the teachings of the Word of God to our daily life\, more deeply encounter Christ\, and live our Catholic faith in a more powerful way. \nNo need to register\, just come when you can. If you miss a session or two\, just come to the next one. Bibles are available in the library\, or you may bring your own. The readings are also in the previous Sunday bulletin\, if you wish to bring that along (we will also have some available\nin the library). \nJoin us as we dive into these eight Sunday readings.
URL:https://www.roccatholicsnorthwest.org/event/opening-the-word-bible-study/2025-02-20/1/
LOCATION:St. Charles Borromeo\, 3003 Dewey Ave\, Rochester\, NY\, 14616\, United States
CATEGORIES:St. Charles Borromeo
END:VEVENT
BEGIN:VEVENT
DTSTART;TZID=America/New_York:20250213T190000
DTEND;TZID=America/New_York:20250213T203000
DTSTAMP:20260421T045607
CREATED:20250113T195137Z
LAST-MODIFIED:20250113T200928Z
UID:10000511-1739473200-1739478600@www.roccatholicsnorthwest.org
SUMMARY:Opening The Word Bible Study
DESCRIPTION:One of the requests from the Elements of The Catholic Mass sessions sponsored by the Parish Eucharistic Revival Team was a desire for more understanding of the Scriptures.\nThe “Opening The Word” Bible Study is a dynamic and exciting journey into the Sunday Mass readings that will help us more deeply understand the readings\, and apply the teachings of the Word of God to our daily life\, more deeply encounter Christ\, and live our Catholic faith in a more powerful way. \nNo need to register\, just come when you can. If you miss a session or two\, just come to the next one. Bibles are available in the library\, or you may bring your own. The readings are also in the previous Sunday bulletin\, if you wish to bring that along (we will also have some available\nin the library). \nJoin us as we dive into these eight Sunday readings.
URL:https://www.roccatholicsnorthwest.org/event/opening-the-word-bible-study/2025-02-13/2/
LOCATION:St. Charles Borromeo\, 3003 Dewey Ave\, Rochester\, NY\, 14616\, United States
CATEGORIES:St. Charles Borromeo
END:VEVENT
BEGIN:VEVENT
DTSTART;TZID=America/New_York:20250213T130000
DTEND;TZID=America/New_York:20250213T143000
DTSTAMP:20260421T045607
CREATED:20250113T195137Z
LAST-MODIFIED:20250113T200928Z
UID:10000451-1739451600-1739457000@www.roccatholicsnorthwest.org
SUMMARY:Opening The Word Bible Study
DESCRIPTION:One of the requests from the Elements of The Catholic Mass sessions sponsored by the Parish Eucharistic Revival Team was a desire for more understanding of the Scriptures.\nThe “Opening The Word” Bible Study is a dynamic and exciting journey into the Sunday Mass readings that will help us more deeply understand the readings\, and apply the teachings of the Word of God to our daily life\, more deeply encounter Christ\, and live our Catholic faith in a more powerful way. \nNo need to register\, just come when you can. If you miss a session or two\, just come to the next one. Bibles are available in the library\, or you may bring your own. The readings are also in the previous Sunday bulletin\, if you wish to bring that along (we will also have some available\nin the library). \nJoin us as we dive into these eight Sunday readings.
URL:https://www.roccatholicsnorthwest.org/event/opening-the-word-bible-study/2025-02-13/1/
LOCATION:St. Charles Borromeo\, 3003 Dewey Ave\, Rochester\, NY\, 14616\, United States
CATEGORIES:St. Charles Borromeo
END:VEVENT
BEGIN:VEVENT
DTSTART;TZID=America/New_York:20250206T190000
DTEND;TZID=America/New_York:20250206T203000
DTSTAMP:20260421T045607
CREATED:20250113T195137Z
LAST-MODIFIED:20250113T200928Z
UID:10000510-1738868400-1738873800@www.roccatholicsnorthwest.org
SUMMARY:Opening The Word Bible Study
DESCRIPTION:One of the requests from the Elements of The Catholic Mass sessions sponsored by the Parish Eucharistic Revival Team was a desire for more understanding of the Scriptures.\nThe “Opening The Word” Bible Study is a dynamic and exciting journey into the Sunday Mass readings that will help us more deeply understand the readings\, and apply the teachings of the Word of God to our daily life\, more deeply encounter Christ\, and live our Catholic faith in a more powerful way. \nNo need to register\, just come when you can. If you miss a session or two\, just come to the next one. Bibles are available in the library\, or you may bring your own. The readings are also in the previous Sunday bulletin\, if you wish to bring that along (we will also have some available\nin the library). \nJoin us as we dive into these eight Sunday readings.
URL:https://www.roccatholicsnorthwest.org/event/opening-the-word-bible-study/2025-02-06/2/
LOCATION:St. Charles Borromeo\, 3003 Dewey Ave\, Rochester\, NY\, 14616\, United States
CATEGORIES:St. Charles Borromeo
END:VEVENT
END:VCALENDAR