BEGIN:VCALENDAR
VERSION:2.0
PRODID:-//ROC Catholics Northwest - ECPv6.15.11//NONSGML v1.0//EN
CALSCALE:GREGORIAN
METHOD:PUBLISH
X-WR-CALNAME:ROC Catholics Northwest
X-ORIGINAL-URL:https://www.roccatholicsnorthwest.org
X-WR-CALDESC:Events for ROC Catholics Northwest
REFRESH-INTERVAL;VALUE=DURATION:PT1H
X-Robots-Tag:noindex
X-PUBLISHED-TTL:PT1H
BEGIN:VTIMEZONE
TZID:America/New_York
BEGIN:DAYLIGHT
TZOFFSETFROM:-0500
TZOFFSETTO:-0400
TZNAME:EDT
DTSTART:20250309T070000
END:DAYLIGHT
BEGIN:STANDARD
TZOFFSETFROM:-0400
TZOFFSETTO:-0500
TZNAME:EST
DTSTART:20251102T060000
END:STANDARD
BEGIN:DAYLIGHT
TZOFFSETFROM:-0500
TZOFFSETTO:-0400
TZNAME:EDT
DTSTART:20260308T070000
END:DAYLIGHT
BEGIN:STANDARD
TZOFFSETFROM:-0400
TZOFFSETTO:-0500
TZNAME:EST
DTSTART:20261101T060000
END:STANDARD
BEGIN:DAYLIGHT
TZOFFSETFROM:-0500
TZOFFSETTO:-0400
TZNAME:EDT
DTSTART:20270314T070000
END:DAYLIGHT
BEGIN:STANDARD
TZOFFSETFROM:-0400
TZOFFSETTO:-0500
TZNAME:EST
DTSTART:20271107T060000
END:STANDARD
END:VTIMEZONE
BEGIN:VEVENT
DTSTART;TZID=America/New_York:20260305T120000
DTEND;TZID=America/New_York:20260305T140000
DTSTAMP:20260423T085349
CREATED:20250925T154324Z
LAST-MODIFIED:20250925T154840Z
UID:10000762-1772712000-1772719200@www.roccatholicsnorthwest.org
SUMMARY:Bereavement Ministry
DESCRIPTION:We will meet in the Cry Room at St. Marks.
URL:https://www.roccatholicsnorthwest.org/event/bereavement-ministry/2026-03-05/
LOCATION:St Marks\, 54 Kuhn Road\, Rochester\, NY\, 14612\, United States
CATEGORIES:St. Mark's
END:VEVENT
BEGIN:VEVENT
DTSTART;TZID=America/New_York:20260312T120000
DTEND;TZID=America/New_York:20260312T140000
DTSTAMP:20260423T085349
CREATED:20250925T154324Z
LAST-MODIFIED:20250925T154840Z
UID:10000763-1773316800-1773324000@www.roccatholicsnorthwest.org
SUMMARY:Bereavement Ministry
DESCRIPTION:We will meet in the Cry Room at St. Marks.
URL:https://www.roccatholicsnorthwest.org/event/bereavement-ministry/2026-03-12/
LOCATION:St Marks\, 54 Kuhn Road\, Rochester\, NY\, 14612\, United States
CATEGORIES:St. Mark's
END:VEVENT
BEGIN:VEVENT
DTSTART;TZID=America/New_York:20260319T120000
DTEND;TZID=America/New_York:20260319T140000
DTSTAMP:20260423T085349
CREATED:20250925T154324Z
LAST-MODIFIED:20250925T154840Z
UID:10000764-1773921600-1773928800@www.roccatholicsnorthwest.org
SUMMARY:Bereavement Ministry
DESCRIPTION:We will meet in the Cry Room at St. Marks.
URL:https://www.roccatholicsnorthwest.org/event/bereavement-ministry/2026-03-19/
LOCATION:St Marks\, 54 Kuhn Road\, Rochester\, NY\, 14612\, United States
CATEGORIES:St. Mark's
END:VEVENT
BEGIN:VEVENT
DTSTART;TZID=America/New_York:20260326T120000
DTEND;TZID=America/New_York:20260326T140000
DTSTAMP:20260423T085349
CREATED:20250925T154324Z
LAST-MODIFIED:20250925T154840Z
UID:10000765-1774526400-1774533600@www.roccatholicsnorthwest.org
SUMMARY:Bereavement Ministry
DESCRIPTION:We will meet in the Cry Room at St. Marks.
URL:https://www.roccatholicsnorthwest.org/event/bereavement-ministry/2026-03-26/
LOCATION:St Marks\, 54 Kuhn Road\, Rochester\, NY\, 14612\, United States
CATEGORIES:St. Mark's
END:VEVENT
END:VCALENDAR