BEGIN:VCALENDAR
VERSION:2.0
PRODID:-//ROC Catholics Northwest - ECPv6.15.11//NONSGML v1.0//EN
CALSCALE:GREGORIAN
METHOD:PUBLISH
X-WR-CALNAME:ROC Catholics Northwest
X-ORIGINAL-URL:https://www.roccatholicsnorthwest.org
X-WR-CALDESC:Events for ROC Catholics Northwest
REFRESH-INTERVAL;VALUE=DURATION:PT1H
X-Robots-Tag:noindex
X-PUBLISHED-TTL:PT1H
BEGIN:VTIMEZONE
TZID:America/New_York
BEGIN:DAYLIGHT
TZOFFSETFROM:-0500
TZOFFSETTO:-0400
TZNAME:EDT
DTSTART:20240310T070000
END:DAYLIGHT
BEGIN:STANDARD
TZOFFSETFROM:-0400
TZOFFSETTO:-0500
TZNAME:EST
DTSTART:20241103T060000
END:STANDARD
BEGIN:DAYLIGHT
TZOFFSETFROM:-0500
TZOFFSETTO:-0400
TZNAME:EDT
DTSTART:20250309T070000
END:DAYLIGHT
BEGIN:STANDARD
TZOFFSETFROM:-0400
TZOFFSETTO:-0500
TZNAME:EST
DTSTART:20251102T060000
END:STANDARD
BEGIN:DAYLIGHT
TZOFFSETFROM:-0500
TZOFFSETTO:-0400
TZNAME:EDT
DTSTART:20260308T070000
END:DAYLIGHT
BEGIN:STANDARD
TZOFFSETFROM:-0400
TZOFFSETTO:-0500
TZNAME:EST
DTSTART:20261101T060000
END:STANDARD
END:VTIMEZONE
BEGIN:VEVENT
DTSTART;TZID=America/New_York:20250604T183000
DTEND;TZID=America/New_York:20250604T203000
DTSTAMP:20260424T031239
CREATED:20250402T115030Z
LAST-MODIFIED:20250402T115030Z
UID:10000622-1749061800-1749069000@www.roccatholicsnorthwest.org
SUMMARY:The Chosen - Season 4
DESCRIPTION:Come journey with these disciples who followed Jesus!\nEpisodes viewed in St. Mark’s Parish Center\, small group discussions afterwards.\n(“Bible study with popcorn”)\nThe Chosen
URL:https://www.roccatholicsnorthwest.org/event/the-chosen-season-4/2025-06-04/
LOCATION:St Marks\, 54 Kuhn Road\, Rochester\, NY\, 14612\, United States
CATEGORIES:St. Mark's
END:VEVENT
BEGIN:VEVENT
DTSTART;TZID=America/New_York:20250611T183000
DTEND;TZID=America/New_York:20250611T203000
DTSTAMP:20260424T031239
CREATED:20250402T115030Z
LAST-MODIFIED:20250402T115030Z
UID:10000623-1749666600-1749673800@www.roccatholicsnorthwest.org
SUMMARY:The Chosen - Season 4
DESCRIPTION:Come journey with these disciples who followed Jesus!\nEpisodes viewed in St. Mark’s Parish Center\, small group discussions afterwards.\n(“Bible study with popcorn”)\nThe Chosen
URL:https://www.roccatholicsnorthwest.org/event/the-chosen-season-4/2025-06-11/
LOCATION:St Marks\, 54 Kuhn Road\, Rochester\, NY\, 14612\, United States
CATEGORIES:St. Mark's
END:VEVENT
BEGIN:VEVENT
DTSTART;TZID=America/New_York:20250618T183000
DTEND;TZID=America/New_York:20250618T203000
DTSTAMP:20260424T031239
CREATED:20250402T115030Z
LAST-MODIFIED:20250402T115030Z
UID:10000624-1750271400-1750278600@www.roccatholicsnorthwest.org
SUMMARY:The Chosen - Season 4
DESCRIPTION:Come journey with these disciples who followed Jesus!\nEpisodes viewed in St. Mark’s Parish Center\, small group discussions afterwards.\n(“Bible study with popcorn”)\nThe Chosen
URL:https://www.roccatholicsnorthwest.org/event/the-chosen-season-4/2025-06-18/
LOCATION:St Marks\, 54 Kuhn Road\, Rochester\, NY\, 14612\, United States
CATEGORIES:St. Mark's
END:VEVENT
BEGIN:VEVENT
DTSTART;TZID=America/New_York:20250625T183000
DTEND;TZID=America/New_York:20250625T203000
DTSTAMP:20260424T031239
CREATED:20250402T115030Z
LAST-MODIFIED:20250402T115030Z
UID:10000625-1750876200-1750883400@www.roccatholicsnorthwest.org
SUMMARY:The Chosen - Season 4
DESCRIPTION:Come journey with these disciples who followed Jesus!\nEpisodes viewed in St. Mark’s Parish Center\, small group discussions afterwards.\n(“Bible study with popcorn”)\nThe Chosen
URL:https://www.roccatholicsnorthwest.org/event/the-chosen-season-4/2025-06-25/
LOCATION:St Marks\, 54 Kuhn Road\, Rochester\, NY\, 14612\, United States
CATEGORIES:St. Mark's
END:VEVENT
END:VCALENDAR