BEGIN:VCALENDAR
VERSION:2.0
PRODID:-//ROC Catholics Northwest - ECPv6.15.11//NONSGML v1.0//EN
CALSCALE:GREGORIAN
METHOD:PUBLISH
X-ORIGINAL-URL:https://www.roccatholicsnorthwest.org
X-WR-CALDESC:Events for ROC Catholics Northwest
REFRESH-INTERVAL;VALUE=DURATION:PT1H
X-Robots-Tag:noindex
X-PUBLISHED-TTL:PT1H
BEGIN:VTIMEZONE
TZID:America/New_York
BEGIN:DAYLIGHT
TZOFFSETFROM:-0500
TZOFFSETTO:-0400
TZNAME:EDT
DTSTART:20240310T070000
END:DAYLIGHT
BEGIN:STANDARD
TZOFFSETFROM:-0400
TZOFFSETTO:-0500
TZNAME:EST
DTSTART:20241103T060000
END:STANDARD
BEGIN:DAYLIGHT
TZOFFSETFROM:-0500
TZOFFSETTO:-0400
TZNAME:EDT
DTSTART:20250309T070000
END:DAYLIGHT
BEGIN:STANDARD
TZOFFSETFROM:-0400
TZOFFSETTO:-0500
TZNAME:EST
DTSTART:20251102T060000
END:STANDARD
BEGIN:DAYLIGHT
TZOFFSETFROM:-0500
TZOFFSETTO:-0400
TZNAME:EDT
DTSTART:20260308T070000
END:DAYLIGHT
BEGIN:STANDARD
TZOFFSETFROM:-0400
TZOFFSETTO:-0500
TZNAME:EST
DTSTART:20261101T060000
END:STANDARD
END:VTIMEZONE
BEGIN:VEVENT
DTSTART;TZID=America/New_York:20250501T063000
DTEND;TZID=America/New_York:20250501T073000
DTSTAMP:20260424T045948
CREATED:20250210T153225Z
LAST-MODIFIED:20250210T164648Z
UID:10000607-1746081000-1746084600@www.roccatholicsnorthwest.org
SUMMARY:That Man Is You
DESCRIPTION:Men of God – Enliven your faith by Joining us for\nThat Man Is You
URL:https://www.roccatholicsnorthwest.org/event/that-man-is-you-2/2025-05-01/
LOCATION:St Marks\, 54 Kuhn Road\, Rochester\, NY\, 14612\, United States
CATEGORIES:St. Mark's
END:VEVENT
BEGIN:VEVENT
DTSTART;TZID=America/New_York:20250521T183000
DTEND;TZID=America/New_York:20250521T203000
DTSTAMP:20260424T045948
CREATED:20250402T115030Z
LAST-MODIFIED:20250402T115030Z
UID:10000620-1747852200-1747859400@www.roccatholicsnorthwest.org
SUMMARY:The Chosen - Season 4
DESCRIPTION:Come journey with these disciples who followed Jesus!\nEpisodes viewed in St. Mark’s Parish Center\, small group discussions afterwards.\n(“Bible study with popcorn”)\nThe Chosen
URL:https://www.roccatholicsnorthwest.org/event/the-chosen-season-4/2025-05-21/
LOCATION:St Marks\, 54 Kuhn Road\, Rochester\, NY\, 14612\, United States
CATEGORIES:St. Mark's
END:VEVENT
BEGIN:VEVENT
DTSTART;TZID=America/New_York:20250528T183000
DTEND;TZID=America/New_York:20250528T203000
DTSTAMP:20260424T045948
CREATED:20250402T115030Z
LAST-MODIFIED:20250402T115030Z
UID:10000621-1748457000-1748464200@www.roccatholicsnorthwest.org
SUMMARY:The Chosen - Season 4
DESCRIPTION:Come journey with these disciples who followed Jesus!\nEpisodes viewed in St. Mark’s Parish Center\, small group discussions afterwards.\n(“Bible study with popcorn”)\nThe Chosen
URL:https://www.roccatholicsnorthwest.org/event/the-chosen-season-4/2025-05-28/
LOCATION:St Marks\, 54 Kuhn Road\, Rochester\, NY\, 14612\, United States
CATEGORIES:St. Mark's
END:VEVENT
END:VCALENDAR