BEGIN:VCALENDAR
VERSION:2.0
PRODID:-//ROC Catholics Northwest - ECPv6.15.11//NONSGML v1.0//EN
CALSCALE:GREGORIAN
METHOD:PUBLISH
X-WR-CALNAME:ROC Catholics Northwest
X-ORIGINAL-URL:https://www.roccatholicsnorthwest.org
X-WR-CALDESC:Events for ROC Catholics Northwest
REFRESH-INTERVAL;VALUE=DURATION:PT1H
X-Robots-Tag:noindex
X-PUBLISHED-TTL:PT1H
BEGIN:VTIMEZONE
TZID:America/New_York
BEGIN:DAYLIGHT
TZOFFSETFROM:-0500
TZOFFSETTO:-0400
TZNAME:EDT
DTSTART:20240310T070000
END:DAYLIGHT
BEGIN:STANDARD
TZOFFSETFROM:-0400
TZOFFSETTO:-0500
TZNAME:EST
DTSTART:20241103T060000
END:STANDARD
BEGIN:DAYLIGHT
TZOFFSETFROM:-0500
TZOFFSETTO:-0400
TZNAME:EDT
DTSTART:20250309T070000
END:DAYLIGHT
BEGIN:STANDARD
TZOFFSETFROM:-0400
TZOFFSETTO:-0500
TZNAME:EST
DTSTART:20251102T060000
END:STANDARD
BEGIN:DAYLIGHT
TZOFFSETFROM:-0500
TZOFFSETTO:-0400
TZNAME:EDT
DTSTART:20260308T070000
END:DAYLIGHT
BEGIN:STANDARD
TZOFFSETFROM:-0400
TZOFFSETTO:-0500
TZNAME:EST
DTSTART:20261101T060000
END:STANDARD
END:VTIMEZONE
BEGIN:VEVENT
DTSTART;TZID=America/New_York:20250306T063000
DTEND;TZID=America/New_York:20250306T073000
DTSTAMP:20260424T080814
CREATED:20250210T153225Z
LAST-MODIFIED:20250210T164648Z
UID:10000599-1741242600-1741246200@www.roccatholicsnorthwest.org
SUMMARY:That Man Is You
DESCRIPTION:Men of God – Enliven your faith by Joining us for\nThat Man Is You
URL:https://www.roccatholicsnorthwest.org/event/that-man-is-you-2/2025-03-06/
LOCATION:St Marks\, 54 Kuhn Road\, Rochester\, NY\, 14612\, United States
CATEGORIES:St. Mark's
END:VEVENT
BEGIN:VEVENT
DTSTART;TZID=America/New_York:20250313T063000
DTEND;TZID=America/New_York:20250313T073000
DTSTAMP:20260424T080814
CREATED:20250210T153225Z
LAST-MODIFIED:20250210T164648Z
UID:10000600-1741847400-1741851000@www.roccatholicsnorthwest.org
SUMMARY:That Man Is You
DESCRIPTION:Men of God – Enliven your faith by Joining us for\nThat Man Is You
URL:https://www.roccatholicsnorthwest.org/event/that-man-is-you-2/2025-03-13/
LOCATION:St Marks\, 54 Kuhn Road\, Rochester\, NY\, 14612\, United States
CATEGORIES:St. Mark's
END:VEVENT
BEGIN:VEVENT
DTSTART;TZID=America/New_York:20250320T063000
DTEND;TZID=America/New_York:20250320T073000
DTSTAMP:20260424T080814
CREATED:20250210T153225Z
LAST-MODIFIED:20250210T164648Z
UID:10000601-1742452200-1742455800@www.roccatholicsnorthwest.org
SUMMARY:That Man Is You
DESCRIPTION:Men of God – Enliven your faith by Joining us for\nThat Man Is You
URL:https://www.roccatholicsnorthwest.org/event/that-man-is-you-2/2025-03-20/
LOCATION:St Marks\, 54 Kuhn Road\, Rochester\, NY\, 14612\, United States
CATEGORIES:St. Mark's
END:VEVENT
BEGIN:VEVENT
DTSTART;TZID=America/New_York:20250327T063000
DTEND;TZID=America/New_York:20250327T073000
DTSTAMP:20260424T080814
CREATED:20250210T153225Z
LAST-MODIFIED:20250210T164648Z
UID:10000602-1743057000-1743060600@www.roccatholicsnorthwest.org
SUMMARY:That Man Is You
DESCRIPTION:Men of God – Enliven your faith by Joining us for\nThat Man Is You
URL:https://www.roccatholicsnorthwest.org/event/that-man-is-you-2/2025-03-27/
LOCATION:St Marks\, 54 Kuhn Road\, Rochester\, NY\, 14612\, United States
CATEGORIES:St. Mark's
END:VEVENT
END:VCALENDAR