BEGIN:VCALENDAR
VERSION:2.0
PRODID:-//ROC Catholics Northwest - ECPv6.15.11//NONSGML v1.0//EN
CALSCALE:GREGORIAN
METHOD:PUBLISH
X-WR-CALNAME:ROC Catholics Northwest
X-ORIGINAL-URL:https://www.roccatholicsnorthwest.org
X-WR-CALDESC:Events for ROC Catholics Northwest
REFRESH-INTERVAL;VALUE=DURATION:PT1H
X-Robots-Tag:noindex
X-PUBLISHED-TTL:PT1H
BEGIN:VTIMEZONE
TZID:America/New_York
BEGIN:DAYLIGHT
TZOFFSETFROM:-0500
TZOFFSETTO:-0400
TZNAME:EDT
DTSTART:20240310T070000
END:DAYLIGHT
BEGIN:STANDARD
TZOFFSETFROM:-0400
TZOFFSETTO:-0500
TZNAME:EST
DTSTART:20241103T060000
END:STANDARD
BEGIN:DAYLIGHT
TZOFFSETFROM:-0500
TZOFFSETTO:-0400
TZNAME:EDT
DTSTART:20250309T070000
END:DAYLIGHT
BEGIN:STANDARD
TZOFFSETFROM:-0400
TZOFFSETTO:-0500
TZNAME:EST
DTSTART:20251102T060000
END:STANDARD
BEGIN:DAYLIGHT
TZOFFSETFROM:-0500
TZOFFSETTO:-0400
TZNAME:EDT
DTSTART:20260308T070000
END:DAYLIGHT
BEGIN:STANDARD
TZOFFSETFROM:-0400
TZOFFSETTO:-0500
TZNAME:EST
DTSTART:20261101T060000
END:STANDARD
END:VTIMEZONE
BEGIN:VEVENT
DTSTART;TZID=America/New_York:20250203T063000
DTEND;TZID=America/New_York:20250203T073000
DTSTAMP:20260424T095029
CREATED:20250114T141911Z
LAST-MODIFIED:20250114T142504Z
UID:10000514-1738564200-1738567800@www.roccatholicsnorthwest.org
SUMMARY:That Man Is You
DESCRIPTION:Men of God—\nEnliven your faith by\nJoining us for\nTHAT MAN IS YOU\n“Worthy of the Call”\nGreat speakers\, great discussions\non ZOOM every Monday morning 6:15 to 7:30\n13 sessions: Feb. 3 to Apr. 28\nFor logistics\, call/text Jeff Rice: 315-1766
URL:https://www.roccatholicsnorthwest.org/event/that-man-is-you/2025-02-03/
LOCATION:NY
CATEGORIES:St. Mark's
END:VEVENT
BEGIN:VEVENT
DTSTART;TZID=America/New_York:20250206T063000
DTEND;TZID=America/New_York:20250206T073000
DTSTAMP:20260424T095029
CREATED:20250210T153225Z
LAST-MODIFIED:20250210T164648Z
UID:10000516-1738823400-1738827000@www.roccatholicsnorthwest.org
SUMMARY:That Man Is You
DESCRIPTION:Men of God – Enliven your faith by Joining us for\nThat Man Is You
URL:https://www.roccatholicsnorthwest.org/event/that-man-is-you-2/2025-02-06/
LOCATION:St Marks\, 54 Kuhn Road\, Rochester\, NY\, 14612\, United States
CATEGORIES:St. Mark's
END:VEVENT
BEGIN:VEVENT
DTSTART;TZID=America/New_York:20250210T063000
DTEND;TZID=America/New_York:20250210T073000
DTSTAMP:20260424T095029
CREATED:20250114T141911Z
LAST-MODIFIED:20250114T142504Z
UID:10000515-1739169000-1739172600@www.roccatholicsnorthwest.org
SUMMARY:That Man Is You
DESCRIPTION:Men of God—\nEnliven your faith by\nJoining us for\nTHAT MAN IS YOU\n“Worthy of the Call”\nGreat speakers\, great discussions\non ZOOM every Monday morning 6:15 to 7:30\n13 sessions: Feb. 3 to Apr. 28\nFor logistics\, call/text Jeff Rice: 315-1766
URL:https://www.roccatholicsnorthwest.org/event/that-man-is-you/2025-02-10/
LOCATION:NY
CATEGORIES:St. Mark's
END:VEVENT
BEGIN:VEVENT
DTSTART;TZID=America/New_York:20250213T063000
DTEND;TZID=America/New_York:20250213T073000
DTSTAMP:20260424T095029
CREATED:20250210T153225Z
LAST-MODIFIED:20250210T164648Z
UID:10000596-1739428200-1739431800@www.roccatholicsnorthwest.org
SUMMARY:That Man Is You
DESCRIPTION:Men of God – Enliven your faith by Joining us for\nThat Man Is You
URL:https://www.roccatholicsnorthwest.org/event/that-man-is-you-2/2025-02-13/
LOCATION:St Marks\, 54 Kuhn Road\, Rochester\, NY\, 14612\, United States
CATEGORIES:St. Mark's
END:VEVENT
BEGIN:VEVENT
DTSTART;TZID=America/New_York:20250220T063000
DTEND;TZID=America/New_York:20250220T073000
DTSTAMP:20260424T095029
CREATED:20250210T153225Z
LAST-MODIFIED:20250210T164648Z
UID:10000597-1740033000-1740036600@www.roccatholicsnorthwest.org
SUMMARY:That Man Is You
DESCRIPTION:Men of God – Enliven your faith by Joining us for\nThat Man Is You
URL:https://www.roccatholicsnorthwest.org/event/that-man-is-you-2/2025-02-20/
LOCATION:St Marks\, 54 Kuhn Road\, Rochester\, NY\, 14612\, United States
CATEGORIES:St. Mark's
END:VEVENT
BEGIN:VEVENT
DTSTART;TZID=America/New_York:20250227T063000
DTEND;TZID=America/New_York:20250227T073000
DTSTAMP:20260424T095029
CREATED:20250210T153225Z
LAST-MODIFIED:20250210T164648Z
UID:10000598-1740637800-1740641400@www.roccatholicsnorthwest.org
SUMMARY:That Man Is You
DESCRIPTION:Men of God – Enliven your faith by Joining us for\nThat Man Is You
URL:https://www.roccatholicsnorthwest.org/event/that-man-is-you-2/2025-02-27/
LOCATION:St Marks\, 54 Kuhn Road\, Rochester\, NY\, 14612\, United States
CATEGORIES:St. Mark's
END:VEVENT
END:VCALENDAR