BEGIN:VCALENDAR
VERSION:2.0
PRODID:-//ROC Catholics Northwest - ECPv6.15.11//NONSGML v1.0//EN
CALSCALE:GREGORIAN
METHOD:PUBLISH
X-WR-CALNAME:ROC Catholics Northwest
X-ORIGINAL-URL:https://www.roccatholicsnorthwest.org
X-WR-CALDESC:Events for ROC Catholics Northwest
REFRESH-INTERVAL;VALUE=DURATION:PT1H
X-Robots-Tag:noindex
X-PUBLISHED-TTL:PT1H
BEGIN:VTIMEZONE
TZID:America/New_York
BEGIN:DAYLIGHT
TZOFFSETFROM:-0500
TZOFFSETTO:-0400
TZNAME:EDT
DTSTART:20230312T070000
END:DAYLIGHT
BEGIN:STANDARD
TZOFFSETFROM:-0400
TZOFFSETTO:-0500
TZNAME:EST
DTSTART:20231105T060000
END:STANDARD
BEGIN:DAYLIGHT
TZOFFSETFROM:-0500
TZOFFSETTO:-0400
TZNAME:EDT
DTSTART:20240310T070000
END:DAYLIGHT
BEGIN:STANDARD
TZOFFSETFROM:-0400
TZOFFSETTO:-0500
TZNAME:EST
DTSTART:20241103T060000
END:STANDARD
BEGIN:DAYLIGHT
TZOFFSETFROM:-0500
TZOFFSETTO:-0400
TZNAME:EDT
DTSTART:20250309T070000
END:DAYLIGHT
BEGIN:STANDARD
TZOFFSETFROM:-0400
TZOFFSETTO:-0500
TZNAME:EST
DTSTART:20251102T060000
END:STANDARD
END:VTIMEZONE
BEGIN:VEVENT
DTSTART;TZID=America/New_York:20240924T180000
DTEND;TZID=America/New_York:20240924T190000
DTSTAMP:20260424T181031
CREATED:20240919T164817Z
LAST-MODIFIED:20240919T164817Z
UID:10000286-1727200800-1727204400@www.roccatholicsnorthwest.org
SUMMARY:Walking With Moms in Need
DESCRIPTION:Walking with Moms in Need at St. Mark’s will host a meeting on Tuesday\, September 24th from 6:00-7:00 pm in the Parish Hall. Our speakers will be Elizabeth Johnston\, Coordinator of Life Issues and Cultural Ministries for the Diocese of Rochester. She will be joined by Jane Way\, Representative of the Walking with Moms in Need initiative at Peace of Christ Parish. They will discuss their experience with the Walking With Moms in Need ministry and how we at St. Marks can proceed to the next phase of prayer and participation. Please join us for this important meeting.  For more information on WALKING WITH MOMS IN NEED\, please visit: https://www.stmarksgreece.com/walking-with-moms-in-need
URL:https://www.roccatholicsnorthwest.org/event/walking-with-moms-in-need/
LOCATION:St Marks\, 54 Kuhn Road\, Rochester\, NY\, 14612\, United States
CATEGORIES:St. Mark's
END:VEVENT
END:VCALENDAR