BEGIN:VCALENDAR
VERSION:2.0
PRODID:-//ROC Catholics Northwest - ECPv6.15.11//NONSGML v1.0//EN
CALSCALE:GREGORIAN
METHOD:PUBLISH
X-ORIGINAL-URL:https://www.roccatholicsnorthwest.org
X-WR-CALDESC:Events for ROC Catholics Northwest
REFRESH-INTERVAL;VALUE=DURATION:PT1H
X-Robots-Tag:noindex
X-PUBLISHED-TTL:PT1H
BEGIN:VTIMEZONE
TZID:America/New_York
BEGIN:DAYLIGHT
TZOFFSETFROM:-0500
TZOFFSETTO:-0400
TZNAME:EDT
DTSTART:20240310T070000
END:DAYLIGHT
BEGIN:STANDARD
TZOFFSETFROM:-0400
TZOFFSETTO:-0500
TZNAME:EST
DTSTART:20241103T060000
END:STANDARD
BEGIN:DAYLIGHT
TZOFFSETFROM:-0500
TZOFFSETTO:-0400
TZNAME:EDT
DTSTART:20250309T070000
END:DAYLIGHT
BEGIN:STANDARD
TZOFFSETFROM:-0400
TZOFFSETTO:-0500
TZNAME:EST
DTSTART:20251102T060000
END:STANDARD
BEGIN:DAYLIGHT
TZOFFSETFROM:-0500
TZOFFSETTO:-0400
TZNAME:EDT
DTSTART:20260308T070000
END:DAYLIGHT
BEGIN:STANDARD
TZOFFSETFROM:-0400
TZOFFSETTO:-0500
TZNAME:EST
DTSTART:20261101T060000
END:STANDARD
END:VTIMEZONE
BEGIN:VEVENT
DTSTART;TZID=America/New_York:20250602T090000
DTEND;TZID=America/New_York:20250602T100000
DTSTAMP:20260421T090230
CREATED:20241202T181726Z
LAST-MODIFIED:20241202T192009Z
UID:10000399-1748854800-1748858400@www.roccatholicsnorthwest.org
SUMMARY:Bible Study - St. Johns
DESCRIPTION:Bible Study will be held in the Parish Center
URL:https://www.roccatholicsnorthwest.org/event/bible-study-st-johns/2025-06-02/
LOCATION:St John The Evangelist\, 2400 W Ridge Road\, Rochester\, NY\, 14626\, United States
CATEGORIES:St. John the Evangelist
END:VEVENT
BEGIN:VEVENT
DTSTART;TZID=America/New_York:20250604T103000
DTEND;TZID=America/New_York:20250604T120000
DTSTAMP:20260421T090230
CREATED:20250512T133925Z
LAST-MODIFIED:20250512T134102Z
UID:10000631-1749033000-1749038400@www.roccatholicsnorthwest.org
SUMMARY:Journey Through Grief Support Group
DESCRIPTION:This series will meet in our parish center hosted by Deacon Lon Smith.  Registration is required – call 225-8980.
URL:https://www.roccatholicsnorthwest.org/event/journey-through-grief-support-group/2025-06-04/
LOCATION:NY
CATEGORIES:St. John the Evangelist
END:VEVENT
BEGIN:VEVENT
DTSTART;TZID=America/New_York:20250609T090000
DTEND;TZID=America/New_York:20250609T100000
DTSTAMP:20260421T090230
CREATED:20241202T181726Z
LAST-MODIFIED:20241202T192009Z
UID:10000400-1749459600-1749463200@www.roccatholicsnorthwest.org
SUMMARY:Bible Study - St. Johns
DESCRIPTION:Bible Study will be held in the Parish Center
URL:https://www.roccatholicsnorthwest.org/event/bible-study-st-johns/2025-06-09/
LOCATION:St John The Evangelist\, 2400 W Ridge Road\, Rochester\, NY\, 14626\, United States
CATEGORIES:St. John the Evangelist
END:VEVENT
BEGIN:VEVENT
DTSTART;TZID=America/New_York:20250611T103000
DTEND;TZID=America/New_York:20250611T120000
DTSTAMP:20260421T090230
CREATED:20250512T133925Z
LAST-MODIFIED:20250512T134102Z
UID:10000632-1749637800-1749643200@www.roccatholicsnorthwest.org
SUMMARY:Journey Through Grief Support Group
DESCRIPTION:This series will meet in our parish center hosted by Deacon Lon Smith.  Registration is required – call 225-8980.
URL:https://www.roccatholicsnorthwest.org/event/journey-through-grief-support-group/2025-06-11/
LOCATION:NY
CATEGORIES:St. John the Evangelist
END:VEVENT
BEGIN:VEVENT
DTSTART;TZID=America/New_York:20250616T090000
DTEND;TZID=America/New_York:20250616T100000
DTSTAMP:20260421T090230
CREATED:20241202T181726Z
LAST-MODIFIED:20241202T192009Z
UID:10000401-1750064400-1750068000@www.roccatholicsnorthwest.org
SUMMARY:Bible Study - St. Johns
DESCRIPTION:Bible Study will be held in the Parish Center
URL:https://www.roccatholicsnorthwest.org/event/bible-study-st-johns/2025-06-16/
LOCATION:St John The Evangelist\, 2400 W Ridge Road\, Rochester\, NY\, 14626\, United States
CATEGORIES:St. John the Evangelist
END:VEVENT
BEGIN:VEVENT
DTSTART;TZID=America/New_York:20250618T103000
DTEND;TZID=America/New_York:20250618T120000
DTSTAMP:20260421T090230
CREATED:20250512T133925Z
LAST-MODIFIED:20250512T134102Z
UID:10000633-1750242600-1750248000@www.roccatholicsnorthwest.org
SUMMARY:Journey Through Grief Support Group
DESCRIPTION:This series will meet in our parish center hosted by Deacon Lon Smith.  Registration is required – call 225-8980.
URL:https://www.roccatholicsnorthwest.org/event/journey-through-grief-support-group/2025-06-18/
LOCATION:NY
CATEGORIES:St. John the Evangelist
END:VEVENT
BEGIN:VEVENT
DTSTART;TZID=America/New_York:20250623T090000
DTEND;TZID=America/New_York:20250623T100000
DTSTAMP:20260421T090230
CREATED:20241202T181726Z
LAST-MODIFIED:20241202T192009Z
UID:10000402-1750669200-1750672800@www.roccatholicsnorthwest.org
SUMMARY:Bible Study - St. Johns
DESCRIPTION:Bible Study will be held in the Parish Center
URL:https://www.roccatholicsnorthwest.org/event/bible-study-st-johns/2025-06-23/
LOCATION:St John The Evangelist\, 2400 W Ridge Road\, Rochester\, NY\, 14626\, United States
CATEGORIES:St. John the Evangelist
END:VEVENT
BEGIN:VEVENT
DTSTART;TZID=America/New_York:20250630T090000
DTEND;TZID=America/New_York:20250630T100000
DTSTAMP:20260421T090230
CREATED:20241202T181726Z
LAST-MODIFIED:20241202T192009Z
UID:10000403-1751274000-1751277600@www.roccatholicsnorthwest.org
SUMMARY:Bible Study - St. Johns
DESCRIPTION:Bible Study will be held in the Parish Center
URL:https://www.roccatholicsnorthwest.org/event/bible-study-st-johns/2025-06-30/
LOCATION:St John The Evangelist\, 2400 W Ridge Road\, Rochester\, NY\, 14626\, United States
CATEGORIES:St. John the Evangelist
END:VEVENT
END:VCALENDAR