BEGIN:VCALENDAR
VERSION:2.0
PRODID:-//ROC Catholics Northwest - ECPv6.15.11//NONSGML v1.0//EN
CALSCALE:GREGORIAN
METHOD:PUBLISH
X-ORIGINAL-URL:https://www.roccatholicsnorthwest.org
X-WR-CALDESC:Events for ROC Catholics Northwest
REFRESH-INTERVAL;VALUE=DURATION:PT1H
X-Robots-Tag:noindex
X-PUBLISHED-TTL:PT1H
BEGIN:VTIMEZONE
TZID:America/New_York
BEGIN:DAYLIGHT
TZOFFSETFROM:-0500
TZOFFSETTO:-0400
TZNAME:EDT
DTSTART:20240310T070000
END:DAYLIGHT
BEGIN:STANDARD
TZOFFSETFROM:-0400
TZOFFSETTO:-0500
TZNAME:EST
DTSTART:20241103T060000
END:STANDARD
BEGIN:DAYLIGHT
TZOFFSETFROM:-0500
TZOFFSETTO:-0400
TZNAME:EDT
DTSTART:20250309T070000
END:DAYLIGHT
BEGIN:STANDARD
TZOFFSETFROM:-0400
TZOFFSETTO:-0500
TZNAME:EST
DTSTART:20251102T060000
END:STANDARD
BEGIN:DAYLIGHT
TZOFFSETFROM:-0500
TZOFFSETTO:-0400
TZNAME:EDT
DTSTART:20260308T070000
END:DAYLIGHT
BEGIN:STANDARD
TZOFFSETFROM:-0400
TZOFFSETTO:-0500
TZNAME:EST
DTSTART:20261101T060000
END:STANDARD
END:VTIMEZONE
BEGIN:VEVENT
DTSTART;TZID=America/New_York:20250505T090000
DTEND;TZID=America/New_York:20250505T100000
DTSTAMP:20260421T103345
CREATED:20241202T181726Z
LAST-MODIFIED:20241202T192009Z
UID:10000395-1746435600-1746439200@www.roccatholicsnorthwest.org
SUMMARY:Bible Study - St. Johns
DESCRIPTION:Bible Study will be held in the Parish Center
URL:https://www.roccatholicsnorthwest.org/event/bible-study-st-johns/2025-05-05/
LOCATION:St John The Evangelist\, 2400 W Ridge Road\, Rochester\, NY\, 14626\, United States
CATEGORIES:St. John the Evangelist
END:VEVENT
BEGIN:VEVENT
DTSTART;TZID=America/New_York:20250512T090000
DTEND;TZID=America/New_York:20250512T100000
DTSTAMP:20260421T103345
CREATED:20241202T181726Z
LAST-MODIFIED:20241202T192009Z
UID:10000396-1747040400-1747044000@www.roccatholicsnorthwest.org
SUMMARY:Bible Study - St. Johns
DESCRIPTION:Bible Study will be held in the Parish Center
URL:https://www.roccatholicsnorthwest.org/event/bible-study-st-johns/2025-05-12/
LOCATION:St John The Evangelist\, 2400 W Ridge Road\, Rochester\, NY\, 14626\, United States
CATEGORIES:St. John the Evangelist
END:VEVENT
BEGIN:VEVENT
DTSTART;TZID=America/New_York:20250514T103000
DTEND;TZID=America/New_York:20250514T120000
DTSTAMP:20260421T103345
CREATED:20250512T133925Z
LAST-MODIFIED:20250512T134102Z
UID:10000628-1747218600-1747224000@www.roccatholicsnorthwest.org
SUMMARY:Journey Through Grief Support Group
DESCRIPTION:This series will meet in our parish center hosted by Deacon Lon Smith.  Registration is required – call 225-8980.
URL:https://www.roccatholicsnorthwest.org/event/journey-through-grief-support-group/2025-05-14/
LOCATION:NY
CATEGORIES:St. John the Evangelist
END:VEVENT
BEGIN:VEVENT
DTSTART;TZID=America/New_York:20250519T090000
DTEND;TZID=America/New_York:20250519T100000
DTSTAMP:20260421T103345
CREATED:20241202T181726Z
LAST-MODIFIED:20241202T192009Z
UID:10000397-1747645200-1747648800@www.roccatholicsnorthwest.org
SUMMARY:Bible Study - St. Johns
DESCRIPTION:Bible Study will be held in the Parish Center
URL:https://www.roccatholicsnorthwest.org/event/bible-study-st-johns/2025-05-19/
LOCATION:St John The Evangelist\, 2400 W Ridge Road\, Rochester\, NY\, 14626\, United States
CATEGORIES:St. John the Evangelist
END:VEVENT
BEGIN:VEVENT
DTSTART;TZID=America/New_York:20250521T103000
DTEND;TZID=America/New_York:20250521T120000
DTSTAMP:20260421T103345
CREATED:20250512T133925Z
LAST-MODIFIED:20250512T134102Z
UID:10000629-1747823400-1747828800@www.roccatholicsnorthwest.org
SUMMARY:Journey Through Grief Support Group
DESCRIPTION:This series will meet in our parish center hosted by Deacon Lon Smith.  Registration is required – call 225-8980.
URL:https://www.roccatholicsnorthwest.org/event/journey-through-grief-support-group/2025-05-21/
LOCATION:NY
CATEGORIES:St. John the Evangelist
END:VEVENT
BEGIN:VEVENT
DTSTART;TZID=America/New_York:20250526T090000
DTEND;TZID=America/New_York:20250526T100000
DTSTAMP:20260421T103345
CREATED:20241202T181726Z
LAST-MODIFIED:20241202T192009Z
UID:10000398-1748250000-1748253600@www.roccatholicsnorthwest.org
SUMMARY:Bible Study - St. Johns
DESCRIPTION:Bible Study will be held in the Parish Center
URL:https://www.roccatholicsnorthwest.org/event/bible-study-st-johns/2025-05-26/
LOCATION:St John The Evangelist\, 2400 W Ridge Road\, Rochester\, NY\, 14626\, United States
CATEGORIES:St. John the Evangelist
END:VEVENT
BEGIN:VEVENT
DTSTART;TZID=America/New_York:20250528T103000
DTEND;TZID=America/New_York:20250528T120000
DTSTAMP:20260421T103345
CREATED:20250512T133925Z
LAST-MODIFIED:20250512T134102Z
UID:10000630-1748428200-1748433600@www.roccatholicsnorthwest.org
SUMMARY:Journey Through Grief Support Group
DESCRIPTION:This series will meet in our parish center hosted by Deacon Lon Smith.  Registration is required – call 225-8980.
URL:https://www.roccatholicsnorthwest.org/event/journey-through-grief-support-group/2025-05-28/
LOCATION:NY
CATEGORIES:St. John the Evangelist
END:VEVENT
END:VCALENDAR