BEGIN:VCALENDAR
VERSION:2.0
PRODID:-//ROC Catholics Northwest - ECPv6.15.11//NONSGML v1.0//EN
CALSCALE:GREGORIAN
METHOD:PUBLISH
X-WR-CALNAME:ROC Catholics Northwest
X-ORIGINAL-URL:https://www.roccatholicsnorthwest.org
X-WR-CALDESC:Events for ROC Catholics Northwest
REFRESH-INTERVAL;VALUE=DURATION:PT1H
X-Robots-Tag:noindex
X-PUBLISHED-TTL:PT1H
BEGIN:VTIMEZONE
TZID:America/New_York
BEGIN:DAYLIGHT
TZOFFSETFROM:-0500
TZOFFSETTO:-0400
TZNAME:EDT
DTSTART:20240310T070000
END:DAYLIGHT
BEGIN:STANDARD
TZOFFSETFROM:-0400
TZOFFSETTO:-0500
TZNAME:EST
DTSTART:20241103T060000
END:STANDARD
BEGIN:DAYLIGHT
TZOFFSETFROM:-0500
TZOFFSETTO:-0400
TZNAME:EDT
DTSTART:20250309T070000
END:DAYLIGHT
BEGIN:STANDARD
TZOFFSETFROM:-0400
TZOFFSETTO:-0500
TZNAME:EST
DTSTART:20251102T060000
END:STANDARD
BEGIN:DAYLIGHT
TZOFFSETFROM:-0500
TZOFFSETTO:-0400
TZNAME:EDT
DTSTART:20260308T070000
END:DAYLIGHT
BEGIN:STANDARD
TZOFFSETFROM:-0400
TZOFFSETTO:-0500
TZNAME:EST
DTSTART:20261101T060000
END:STANDARD
END:VTIMEZONE
BEGIN:VEVENT
DTSTART;TZID=America/New_York:20250407T090000
DTEND;TZID=America/New_York:20250407T100000
DTSTAMP:20260421T120537
CREATED:20241202T181726Z
LAST-MODIFIED:20241202T192009Z
UID:10000391-1744016400-1744020000@www.roccatholicsnorthwest.org
SUMMARY:Bible Study - St. Johns
DESCRIPTION:Bible Study will be held in the Parish Center
URL:https://www.roccatholicsnorthwest.org/event/bible-study-st-johns/2025-04-07/
LOCATION:St John The Evangelist\, 2400 W Ridge Road\, Rochester\, NY\, 14626\, United States
CATEGORIES:St. John the Evangelist
END:VEVENT
BEGIN:VEVENT
DTSTART;TZID=America/New_York:20250414T090000
DTEND;TZID=America/New_York:20250414T100000
DTSTAMP:20260421T120537
CREATED:20241202T181726Z
LAST-MODIFIED:20241202T192009Z
UID:10000392-1744621200-1744624800@www.roccatholicsnorthwest.org
SUMMARY:Bible Study - St. Johns
DESCRIPTION:Bible Study will be held in the Parish Center
URL:https://www.roccatholicsnorthwest.org/event/bible-study-st-johns/2025-04-14/
LOCATION:St John The Evangelist\, 2400 W Ridge Road\, Rochester\, NY\, 14626\, United States
CATEGORIES:St. John the Evangelist
END:VEVENT
BEGIN:VEVENT
DTSTART;TZID=America/New_York:20250421T090000
DTEND;TZID=America/New_York:20250421T100000
DTSTAMP:20260421T120537
CREATED:20241202T181726Z
LAST-MODIFIED:20241202T192009Z
UID:10000393-1745226000-1745229600@www.roccatholicsnorthwest.org
SUMMARY:Bible Study - St. Johns
DESCRIPTION:Bible Study will be held in the Parish Center
URL:https://www.roccatholicsnorthwest.org/event/bible-study-st-johns/2025-04-21/
LOCATION:St John The Evangelist\, 2400 W Ridge Road\, Rochester\, NY\, 14626\, United States
CATEGORIES:St. John the Evangelist
END:VEVENT
BEGIN:VEVENT
DTSTART;TZID=America/New_York:20250428T090000
DTEND;TZID=America/New_York:20250428T100000
DTSTAMP:20260421T120537
CREATED:20241202T181726Z
LAST-MODIFIED:20241202T192009Z
UID:10000394-1745830800-1745834400@www.roccatholicsnorthwest.org
SUMMARY:Bible Study - St. Johns
DESCRIPTION:Bible Study will be held in the Parish Center
URL:https://www.roccatholicsnorthwest.org/event/bible-study-st-johns/2025-04-28/
LOCATION:St John The Evangelist\, 2400 W Ridge Road\, Rochester\, NY\, 14626\, United States
CATEGORIES:St. John the Evangelist
END:VEVENT
END:VCALENDAR