BEGIN:VCALENDAR
VERSION:2.0
PRODID:-//ROC Catholics Northwest - ECPv6.15.11//NONSGML v1.0//EN
CALSCALE:GREGORIAN
METHOD:PUBLISH
X-WR-CALNAME:ROC Catholics Northwest
X-ORIGINAL-URL:https://www.roccatholicsnorthwest.org
X-WR-CALDESC:Events for ROC Catholics Northwest
REFRESH-INTERVAL;VALUE=DURATION:PT1H
X-Robots-Tag:noindex
X-PUBLISHED-TTL:PT1H
BEGIN:VTIMEZONE
TZID:America/New_York
BEGIN:DAYLIGHT
TZOFFSETFROM:-0500
TZOFFSETTO:-0400
TZNAME:EDT
DTSTART:20240310T070000
END:DAYLIGHT
BEGIN:STANDARD
TZOFFSETFROM:-0400
TZOFFSETTO:-0500
TZNAME:EST
DTSTART:20241103T060000
END:STANDARD
BEGIN:DAYLIGHT
TZOFFSETFROM:-0500
TZOFFSETTO:-0400
TZNAME:EDT
DTSTART:20250309T070000
END:DAYLIGHT
BEGIN:STANDARD
TZOFFSETFROM:-0400
TZOFFSETTO:-0500
TZNAME:EST
DTSTART:20251102T060000
END:STANDARD
BEGIN:DAYLIGHT
TZOFFSETFROM:-0500
TZOFFSETTO:-0400
TZNAME:EDT
DTSTART:20260308T070000
END:DAYLIGHT
BEGIN:STANDARD
TZOFFSETFROM:-0400
TZOFFSETTO:-0500
TZNAME:EST
DTSTART:20261101T060000
END:STANDARD
END:VTIMEZONE
BEGIN:VEVENT
DTSTART;TZID=America/New_York:20250106T090000
DTEND;TZID=America/New_York:20250106T100000
DTSTAMP:20260421T160954
CREATED:20241202T181726Z
LAST-MODIFIED:20241202T192009Z
UID:10000378-1736154000-1736157600@www.roccatholicsnorthwest.org
SUMMARY:Bible Study - St. Johns
DESCRIPTION:Bible Study will be held in the Parish Center
URL:https://www.roccatholicsnorthwest.org/event/bible-study-st-johns/2025-01-06/
LOCATION:St John The Evangelist\, 2400 W Ridge Road\, Rochester\, NY\, 14626\, United States
CATEGORIES:St. John the Evangelist
END:VEVENT
BEGIN:VEVENT
DTSTART;TZID=America/New_York:20250113T090000
DTEND;TZID=America/New_York:20250113T100000
DTSTAMP:20260421T160954
CREATED:20241202T181726Z
LAST-MODIFIED:20241202T192009Z
UID:10000379-1736758800-1736762400@www.roccatholicsnorthwest.org
SUMMARY:Bible Study - St. Johns
DESCRIPTION:Bible Study will be held in the Parish Center
URL:https://www.roccatholicsnorthwest.org/event/bible-study-st-johns/2025-01-13/
LOCATION:St John The Evangelist\, 2400 W Ridge Road\, Rochester\, NY\, 14626\, United States
CATEGORIES:St. John the Evangelist
END:VEVENT
BEGIN:VEVENT
DTSTART;TZID=America/New_York:20250120T090000
DTEND;TZID=America/New_York:20250120T100000
DTSTAMP:20260421T160954
CREATED:20241202T181726Z
LAST-MODIFIED:20241202T192009Z
UID:10000380-1737363600-1737367200@www.roccatholicsnorthwest.org
SUMMARY:Bible Study - St. Johns
DESCRIPTION:Bible Study will be held in the Parish Center
URL:https://www.roccatholicsnorthwest.org/event/bible-study-st-johns/2025-01-20/
LOCATION:St John The Evangelist\, 2400 W Ridge Road\, Rochester\, NY\, 14626\, United States
CATEGORIES:St. John the Evangelist
END:VEVENT
BEGIN:VEVENT
DTSTART;TZID=America/New_York:20250127T090000
DTEND;TZID=America/New_York:20250127T100000
DTSTAMP:20260421T160954
CREATED:20241202T181726Z
LAST-MODIFIED:20241202T192009Z
UID:10000381-1737968400-1737972000@www.roccatholicsnorthwest.org
SUMMARY:Bible Study - St. Johns
DESCRIPTION:Bible Study will be held in the Parish Center
URL:https://www.roccatholicsnorthwest.org/event/bible-study-st-johns/2025-01-27/
LOCATION:St John The Evangelist\, 2400 W Ridge Road\, Rochester\, NY\, 14626\, United States
CATEGORIES:St. John the Evangelist
END:VEVENT
END:VCALENDAR