BEGIN:VCALENDAR
VERSION:2.0
PRODID:-//ROC Catholics Northwest - ECPv6.15.11//NONSGML v1.0//EN
CALSCALE:GREGORIAN
METHOD:PUBLISH
X-ORIGINAL-URL:https://www.roccatholicsnorthwest.org
X-WR-CALDESC:Events for ROC Catholics Northwest
REFRESH-INTERVAL;VALUE=DURATION:PT1H
X-Robots-Tag:noindex
X-PUBLISHED-TTL:PT1H
BEGIN:VTIMEZONE
TZID:America/New_York
BEGIN:DAYLIGHT
TZOFFSETFROM:-0500
TZOFFSETTO:-0400
TZNAME:EDT
DTSTART:20230312T070000
END:DAYLIGHT
BEGIN:STANDARD
TZOFFSETFROM:-0400
TZOFFSETTO:-0500
TZNAME:EST
DTSTART:20231105T060000
END:STANDARD
BEGIN:DAYLIGHT
TZOFFSETFROM:-0500
TZOFFSETTO:-0400
TZNAME:EDT
DTSTART:20240310T070000
END:DAYLIGHT
BEGIN:STANDARD
TZOFFSETFROM:-0400
TZOFFSETTO:-0500
TZNAME:EST
DTSTART:20241103T060000
END:STANDARD
BEGIN:DAYLIGHT
TZOFFSETFROM:-0500
TZOFFSETTO:-0400
TZNAME:EDT
DTSTART:20250309T070000
END:DAYLIGHT
BEGIN:STANDARD
TZOFFSETFROM:-0400
TZOFFSETTO:-0500
TZNAME:EST
DTSTART:20251102T060000
END:STANDARD
END:VTIMEZONE
BEGIN:VEVENT
DTSTART;TZID=America/New_York:20241202T090000
DTEND;TZID=America/New_York:20241202T100000
DTSTAMP:20260421T174021
CREATED:20241202T181726Z
LAST-MODIFIED:20241202T192009Z
UID:10000370-1733130000-1733133600@www.roccatholicsnorthwest.org
SUMMARY:Bible Study - St. Johns
DESCRIPTION:Bible Study will be held in the Parish Center
URL:https://www.roccatholicsnorthwest.org/event/bible-study-st-johns/2024-12-02/
LOCATION:St John The Evangelist\, 2400 W Ridge Road\, Rochester\, NY\, 14626\, United States
CATEGORIES:St. John the Evangelist
END:VEVENT
BEGIN:VEVENT
DTSTART;TZID=America/New_York:20241207T190000
DTEND;TZID=America/New_York:20241207T203000
DTSTAMP:20260421T174021
CREATED:20241202T183241Z
LAST-MODIFIED:20241202T183241Z
UID:10000371-1733598000-1733603400@www.roccatholicsnorthwest.org
SUMMARY:John Dady Concert
DESCRIPTION:Saturday December 7 at 7:00 PM in the church.  Admission is free but tickets are required for admission.
URL:https://www.roccatholicsnorthwest.org/event/john-dady-concert/
LOCATION:NY
CATEGORIES:St. John the Evangelist
ATTACH;FMTTYPE=image/jpeg:https://www.roccatholicsnorthwest.org/wp-content/uploads/JohnDady.jpg
END:VEVENT
BEGIN:VEVENT
DTSTART;TZID=America/New_York:20241208T110000
DTEND;TZID=America/New_York:20241208T120000
DTSTAMP:20260421T174021
CREATED:20241202T183803Z
LAST-MODIFIED:20241202T183803Z
UID:10000372-1733655600-1733659200@www.roccatholicsnorthwest.org
SUMMARY:Family Coffee Hour With Santa
DESCRIPTION:Following the 10:00 am Mass in the Parish Center. Toddlers to teenagers can visit Santa and receive a gift.
URL:https://www.roccatholicsnorthwest.org/event/family-coffee-hour-with-santa/
LOCATION:NY
CATEGORIES:St. John the Evangelist
END:VEVENT
BEGIN:VEVENT
DTSTART;TZID=America/New_York:20241209T090000
DTEND;TZID=America/New_York:20241209T100000
DTSTAMP:20260421T174021
CREATED:20241202T181726Z
LAST-MODIFIED:20241202T192009Z
UID:10000374-1733734800-1733738400@www.roccatholicsnorthwest.org
SUMMARY:Bible Study - St. Johns
DESCRIPTION:Bible Study will be held in the Parish Center
URL:https://www.roccatholicsnorthwest.org/event/bible-study-st-johns/2024-12-09/
LOCATION:St John The Evangelist\, 2400 W Ridge Road\, Rochester\, NY\, 14626\, United States
CATEGORIES:St. John the Evangelist
END:VEVENT
BEGIN:VEVENT
DTSTART;TZID=America/New_York:20241216T090000
DTEND;TZID=America/New_York:20241216T100000
DTSTAMP:20260421T174021
CREATED:20241202T181726Z
LAST-MODIFIED:20241202T192009Z
UID:10000375-1734339600-1734343200@www.roccatholicsnorthwest.org
SUMMARY:Bible Study - St. Johns
DESCRIPTION:Bible Study will be held in the Parish Center
URL:https://www.roccatholicsnorthwest.org/event/bible-study-st-johns/2024-12-16/
LOCATION:St John The Evangelist\, 2400 W Ridge Road\, Rochester\, NY\, 14626\, United States
CATEGORIES:St. John the Evangelist
END:VEVENT
BEGIN:VEVENT
DTSTART;TZID=America/New_York:20241216T183000
DTEND;TZID=America/New_York:20241216T200000
DTSTAMP:20260421T174021
CREATED:20241202T184412Z
LAST-MODIFIED:20241202T184412Z
UID:10000373-1734373800-1734379200@www.roccatholicsnorthwest.org
SUMMARY:Women's Fatima Prayer Ministry
DESCRIPTION:Meet in the Parish Center
URL:https://www.roccatholicsnorthwest.org/event/womens-fatima-prayer-ministry/
LOCATION:NY
CATEGORIES:St. John the Evangelist
END:VEVENT
BEGIN:VEVENT
DTSTART;TZID=America/New_York:20241223T090000
DTEND;TZID=America/New_York:20241223T100000
DTSTAMP:20260421T174021
CREATED:20241202T181726Z
LAST-MODIFIED:20241202T192009Z
UID:10000376-1734944400-1734948000@www.roccatholicsnorthwest.org
SUMMARY:Bible Study - St. Johns
DESCRIPTION:Bible Study will be held in the Parish Center
URL:https://www.roccatholicsnorthwest.org/event/bible-study-st-johns/2024-12-23/
LOCATION:St John The Evangelist\, 2400 W Ridge Road\, Rochester\, NY\, 14626\, United States
CATEGORIES:St. John the Evangelist
END:VEVENT
BEGIN:VEVENT
DTSTART;TZID=America/New_York:20241230T090000
DTEND;TZID=America/New_York:20241230T100000
DTSTAMP:20260421T174021
CREATED:20241202T181726Z
LAST-MODIFIED:20241202T192009Z
UID:10000377-1735549200-1735552800@www.roccatholicsnorthwest.org
SUMMARY:Bible Study - St. Johns
DESCRIPTION:Bible Study will be held in the Parish Center
URL:https://www.roccatholicsnorthwest.org/event/bible-study-st-johns/2024-12-30/
LOCATION:St John The Evangelist\, 2400 W Ridge Road\, Rochester\, NY\, 14626\, United States
CATEGORIES:St. John the Evangelist
END:VEVENT
END:VCALENDAR