BEGIN:VCALENDAR
VERSION:2.0
PRODID:-//ROC Catholics Northwest - ECPv6.15.11//NONSGML v1.0//EN
CALSCALE:GREGORIAN
METHOD:PUBLISH
X-WR-CALNAME:ROC Catholics Northwest
X-ORIGINAL-URL:https://www.roccatholicsnorthwest.org
X-WR-CALDESC:Events for ROC Catholics Northwest
REFRESH-INTERVAL;VALUE=DURATION:PT1H
X-Robots-Tag:noindex
X-PUBLISHED-TTL:PT1H
BEGIN:VTIMEZONE
TZID:America/New_York
BEGIN:DAYLIGHT
TZOFFSETFROM:-0500
TZOFFSETTO:-0400
TZNAME:EDT
DTSTART:20240310T070000
END:DAYLIGHT
BEGIN:STANDARD
TZOFFSETFROM:-0400
TZOFFSETTO:-0500
TZNAME:EST
DTSTART:20241103T060000
END:STANDARD
BEGIN:DAYLIGHT
TZOFFSETFROM:-0500
TZOFFSETTO:-0400
TZNAME:EDT
DTSTART:20250309T070000
END:DAYLIGHT
BEGIN:STANDARD
TZOFFSETFROM:-0400
TZOFFSETTO:-0500
TZNAME:EST
DTSTART:20251102T060000
END:STANDARD
BEGIN:DAYLIGHT
TZOFFSETFROM:-0500
TZOFFSETTO:-0400
TZNAME:EDT
DTSTART:20260308T070000
END:DAYLIGHT
BEGIN:STANDARD
TZOFFSETFROM:-0400
TZOFFSETTO:-0500
TZNAME:EST
DTSTART:20261101T060000
END:STANDARD
END:VTIMEZONE
BEGIN:VEVENT
DTSTART;TZID=America/New_York:20250401T140000
DTEND;TZID=America/New_York:20250401T153000
DTSTAMP:20260422T195547
CREATED:20250313T171929Z
LAST-MODIFIED:20250313T171929Z
UID:10000616-1743516000-1743521400@www.roccatholicsnorthwest.org
SUMMARY:Lent Retreat - Holy Cross\, MOS\, St. Lawrence
DESCRIPTION:Parish Lenten Retreat for Holy Cross Church/Mother of Sorrows Church/Saint Lawrence Church.\n“The Gospel of Luke and Synodal Jubilee”. Presenter – Fr. Bill Coffas. \nLent Retreat 2025 Flyer
URL:https://www.roccatholicsnorthwest.org/event/lent-retreat-holy-cross-mos-st-lawrence-2/2025-04-01/1/
LOCATION:NY
CATEGORIES:Our Mother of Sorrows
END:VEVENT
BEGIN:VEVENT
DTSTART;TZID=America/New_York:20250401T183000
DTEND;TZID=America/New_York:20250401T200000
DTSTAMP:20260422T195547
CREATED:20250313T171929Z
LAST-MODIFIED:20250313T171929Z
UID:10000617-1743532200-1743537600@www.roccatholicsnorthwest.org
SUMMARY:Lent Retreat - Holy Cross\, MOS\, St. Lawrence
DESCRIPTION:Parish Lenten Retreat for Holy Cross Church/Mother of Sorrows Church/Saint Lawrence Church.\n“The Gospel of Luke and Synodal Jubilee”. Presenter – Fr. Bill Coffas. \nLent Retreat 2025 Flyer
URL:https://www.roccatholicsnorthwest.org/event/lent-retreat-holy-cross-mos-st-lawrence-2/2025-04-01/2/
LOCATION:NY
CATEGORIES:Our Mother of Sorrows
END:VEVENT
BEGIN:VEVENT
DTSTART;TZID=America/New_York:20250401T190000
DTEND;TZID=America/New_York:20250401T210000
DTSTAMP:20260422T195547
CREATED:20250210T144332Z
LAST-MODIFIED:20250210T144851Z
UID:10000591-1743534000-1743541200@www.roccatholicsnorthwest.org
SUMMARY:Lenten Bible Study
DESCRIPTION:Calling all Pilgrims of Hope!\nJoin us for a Jubilee Bible Study! \nBible Study Information
URL:https://www.roccatholicsnorthwest.org/event/lenten-bible-study-2/2025-04-01/
LOCATION:Our Mother Of Sorrows\, 5000 Mount Read Blvd\, Rochester\, NY\, 14612\, United States
CATEGORIES:Our Mother of Sorrows
END:VEVENT
BEGIN:VEVENT
DTSTART;TZID=America/New_York:20250406T130000
DTEND;TZID=America/New_York:20250406T143000
DTSTAMP:20260422T195547
CREATED:20250310T140331Z
LAST-MODIFIED:20250310T143715Z
UID:10000613-1743944400-1743949800@www.roccatholicsnorthwest.org
SUMMARY:Young Musicians’ Concert
DESCRIPTION:FREE-WILL MONETARY AND NONPERISHABLE FOOD DONATIONS WILL BE ACCEPTED AT THE DOOR. ALL PROCEEDS WILL SUPPORT THE FOOD PANTRIES AT HOLY CROSS AND OUR MOTHER OF SORROWS CHURCHES.\nMusic Spring Concert Apr 2025
URL:https://www.roccatholicsnorthwest.org/event/young-musicians-concert/
LOCATION:Our Mother Of Sorrows\, 5000 Mount Read Blvd\, Rochester\, NY\, 14612\, United States
CATEGORIES:Our Mother of Sorrows
END:VEVENT
BEGIN:VEVENT
DTSTART;TZID=America/New_York:20250408T190000
DTEND;TZID=America/New_York:20250408T210000
DTSTAMP:20260422T195547
CREATED:20250210T144332Z
LAST-MODIFIED:20250210T144851Z
UID:10000592-1744138800-1744146000@www.roccatholicsnorthwest.org
SUMMARY:Lenten Bible Study
DESCRIPTION:Calling all Pilgrims of Hope!\nJoin us for a Jubilee Bible Study! \nBible Study Information
URL:https://www.roccatholicsnorthwest.org/event/lenten-bible-study-2/2025-04-08/
LOCATION:Our Mother Of Sorrows\, 5000 Mount Read Blvd\, Rochester\, NY\, 14612\, United States
CATEGORIES:Our Mother of Sorrows
END:VEVENT
BEGIN:VEVENT
DTSTART;TZID=America/New_York:20250426T090000
DTEND;TZID=America/New_York:20250426T100000
DTSTAMP:20260422T195547
CREATED:20241007T141120Z
LAST-MODIFIED:20250107T143434Z
UID:10000303-1745658000-1745661600@www.roccatholicsnorthwest.org
SUMMARY:Saturday Soul Sisters
DESCRIPTION:Please contact Cindy.Lammes@dor.org or Stephanie.Hubbel@dor.org with any questions or to learn about other OMOS Women’s Ministry activities.
URL:https://www.roccatholicsnorthwest.org/event/saturday-soul-sisters/2025-04-26/
LOCATION:NY
CATEGORIES:Our Mother of Sorrows
ATTACH;FMTTYPE=image/jpeg:https://www.roccatholicsnorthwest.org/wp-content/uploads/MOS-Soul-Sisters.jpeg
END:VEVENT
BEGIN:VEVENT
DTSTART;TZID=America/New_York:20250427T143000
DTEND;TZID=America/New_York:20250427T180000
DTSTAMP:20260422T195547
CREATED:20250331T150947Z
LAST-MODIFIED:20250331T150947Z
UID:10000619-1745764200-1745776800@www.roccatholicsnorthwest.org
SUMMARY:Divine Mercy Service
DESCRIPTION:All are welcome to join us for Pizza\, Salad\, & Desserts after our Divine Mercy Service at 2:30pm on\nSunday\, April 27″\, 2025\, at 4:30pm Our Mother of Sorrows Church Parish Hall \nClick for more information – Divine Mercy
URL:https://www.roccatholicsnorthwest.org/event/divine-mercy-service/
LOCATION:NY
CATEGORIES:Our Mother of Sorrows
END:VEVENT
END:VCALENDAR