BEGIN:VCALENDAR
VERSION:2.0
PRODID:-//ROC Catholics Northwest - ECPv6.15.11//NONSGML v1.0//EN
CALSCALE:GREGORIAN
METHOD:PUBLISH
X-ORIGINAL-URL:https://www.roccatholicsnorthwest.org
X-WR-CALDESC:Events for ROC Catholics Northwest
REFRESH-INTERVAL;VALUE=DURATION:PT1H
X-Robots-Tag:noindex
X-PUBLISHED-TTL:PT1H
BEGIN:VTIMEZONE
TZID:America/New_York
BEGIN:DAYLIGHT
TZOFFSETFROM:-0500
TZOFFSETTO:-0400
TZNAME:EDT
DTSTART:20240310T070000
END:DAYLIGHT
BEGIN:STANDARD
TZOFFSETFROM:-0400
TZOFFSETTO:-0500
TZNAME:EST
DTSTART:20241103T060000
END:STANDARD
BEGIN:DAYLIGHT
TZOFFSETFROM:-0500
TZOFFSETTO:-0400
TZNAME:EDT
DTSTART:20250309T070000
END:DAYLIGHT
BEGIN:STANDARD
TZOFFSETFROM:-0400
TZOFFSETTO:-0500
TZNAME:EST
DTSTART:20251102T060000
END:STANDARD
BEGIN:DAYLIGHT
TZOFFSETFROM:-0500
TZOFFSETTO:-0400
TZNAME:EDT
DTSTART:20260308T070000
END:DAYLIGHT
BEGIN:STANDARD
TZOFFSETFROM:-0400
TZOFFSETTO:-0500
TZNAME:EST
DTSTART:20261101T060000
END:STANDARD
END:VTIMEZONE
BEGIN:VEVENT
DTSTART;TZID=America/New_York:20250304T190000
DTEND;TZID=America/New_York:20250304T210000
DTSTAMP:20260422T214155
CREATED:20250210T144332Z
LAST-MODIFIED:20250210T144851Z
UID:10000587-1741114800-1741122000@www.roccatholicsnorthwest.org
SUMMARY:Lenten Bible Study
DESCRIPTION:Calling all Pilgrims of Hope!\nJoin us for a Jubilee Bible Study! \nBible Study Information
URL:https://www.roccatholicsnorthwest.org/event/lenten-bible-study-2/2025-03-04/
LOCATION:Our Mother Of Sorrows\, 5000 Mount Read Blvd\, Rochester\, NY\, 14612\, United States
CATEGORIES:Our Mother of Sorrows
END:VEVENT
BEGIN:VEVENT
DTSTART;TZID=America/New_York:20250308T113000
DTEND;TZID=America/New_York:20250308T153000
DTSTAMP:20260422T214155
CREATED:20250203T184641Z
LAST-MODIFIED:20250203T185025Z
UID:10000580-1741433400-1741447800@www.roccatholicsnorthwest.org
SUMMARY:Our Mother of Sorrows Women’s Ministry Lenten Retreat
DESCRIPTION:Click here for more information.
URL:https://www.roccatholicsnorthwest.org/event/our-mother-of-sorrows-womens-ministry-lenten-retreat/
LOCATION:NY
CATEGORIES:Our Mother of Sorrows
END:VEVENT
BEGIN:VEVENT
DTSTART;TZID=America/New_York:20250311T190000
DTEND;TZID=America/New_York:20250311T210000
DTSTAMP:20260422T214155
CREATED:20250210T144332Z
LAST-MODIFIED:20250210T144851Z
UID:10000588-1741719600-1741726800@www.roccatholicsnorthwest.org
SUMMARY:Lenten Bible Study
DESCRIPTION:Calling all Pilgrims of Hope!\nJoin us for a Jubilee Bible Study! \nBible Study Information
URL:https://www.roccatholicsnorthwest.org/event/lenten-bible-study-2/2025-03-11/
LOCATION:Our Mother Of Sorrows\, 5000 Mount Read Blvd\, Rochester\, NY\, 14612\, United States
CATEGORIES:Our Mother of Sorrows
END:VEVENT
BEGIN:VEVENT
DTSTART;TZID=America/New_York:20250315T170000
DTEND;TZID=America/New_York:20250315T200000
DTSTAMP:20260422T214155
CREATED:20250310T140049Z
LAST-MODIFIED:20250310T163847Z
UID:10000612-1742058000-1742068800@www.roccatholicsnorthwest.org
SUMMARY:Our Mother Of Sorrows - St Joseph's Table
DESCRIPTION:We will meet following the 4pm mass in Our Mother Of Sorrows Church Parish Hall. \nMOS St Joseph Table
URL:https://www.roccatholicsnorthwest.org/event/our-mother-of-sorrows-st-josephss-table/
LOCATION:Our Mother Of Sorrows\, 5000 Mount Read Blvd\, Rochester\, NY\, 14612\, United States
CATEGORIES:Our Mother of Sorrows
END:VEVENT
BEGIN:VEVENT
DTSTART;TZID=America/New_York:20250318T190000
DTEND;TZID=America/New_York:20250318T210000
DTSTAMP:20260422T214155
CREATED:20250210T144332Z
LAST-MODIFIED:20250210T144851Z
UID:10000589-1742324400-1742331600@www.roccatholicsnorthwest.org
SUMMARY:Lenten Bible Study
DESCRIPTION:Calling all Pilgrims of Hope!\nJoin us for a Jubilee Bible Study! \nBible Study Information
URL:https://www.roccatholicsnorthwest.org/event/lenten-bible-study-2/2025-03-18/
LOCATION:Our Mother Of Sorrows\, 5000 Mount Read Blvd\, Rochester\, NY\, 14612\, United States
CATEGORIES:Our Mother of Sorrows
END:VEVENT
BEGIN:VEVENT
DTSTART;TZID=America/New_York:20250322T090000
DTEND;TZID=America/New_York:20250322T100000
DTSTAMP:20260422T214155
CREATED:20241007T141120Z
LAST-MODIFIED:20250107T143434Z
UID:10000302-1742634000-1742637600@www.roccatholicsnorthwest.org
SUMMARY:Saturday Soul Sisters
DESCRIPTION:Please contact Cindy.Lammes@dor.org or Stephanie.Hubbel@dor.org with any questions or to learn about other OMOS Women’s Ministry activities.
URL:https://www.roccatholicsnorthwest.org/event/saturday-soul-sisters/2025-03-22/
LOCATION:NY
CATEGORIES:Our Mother of Sorrows
ATTACH;FMTTYPE=image/jpeg:https://www.roccatholicsnorthwest.org/wp-content/uploads/MOS-Soul-Sisters.jpeg
END:VEVENT
BEGIN:VEVENT
DTSTART;TZID=America/New_York:20250325T190000
DTEND;TZID=America/New_York:20250325T210000
DTSTAMP:20260422T214155
CREATED:20250210T144332Z
LAST-MODIFIED:20250210T144851Z
UID:10000590-1742929200-1742936400@www.roccatholicsnorthwest.org
SUMMARY:Lenten Bible Study
DESCRIPTION:Calling all Pilgrims of Hope!\nJoin us for a Jubilee Bible Study! \nBible Study Information
URL:https://www.roccatholicsnorthwest.org/event/lenten-bible-study-2/2025-03-25/
LOCATION:Our Mother Of Sorrows\, 5000 Mount Read Blvd\, Rochester\, NY\, 14612\, United States
CATEGORIES:Our Mother of Sorrows
END:VEVENT
END:VCALENDAR