BEGIN:VCALENDAR
VERSION:2.0
PRODID:-//ROC Catholics Northwest - ECPv6.15.11//NONSGML v1.0//EN
CALSCALE:GREGORIAN
METHOD:PUBLISH
X-ORIGINAL-URL:https://www.roccatholicsnorthwest.org
X-WR-CALDESC:Events for ROC Catholics Northwest
REFRESH-INTERVAL;VALUE=DURATION:PT1H
X-Robots-Tag:noindex
X-PUBLISHED-TTL:PT1H
BEGIN:VTIMEZONE
TZID:America/New_York
BEGIN:DAYLIGHT
TZOFFSETFROM:-0500
TZOFFSETTO:-0400
TZNAME:EDT
DTSTART:20230312T070000
END:DAYLIGHT
BEGIN:STANDARD
TZOFFSETFROM:-0400
TZOFFSETTO:-0500
TZNAME:EST
DTSTART:20231105T060000
END:STANDARD
BEGIN:DAYLIGHT
TZOFFSETFROM:-0500
TZOFFSETTO:-0400
TZNAME:EDT
DTSTART:20240310T070000
END:DAYLIGHT
BEGIN:STANDARD
TZOFFSETFROM:-0400
TZOFFSETTO:-0500
TZNAME:EST
DTSTART:20241103T060000
END:STANDARD
BEGIN:DAYLIGHT
TZOFFSETFROM:-0500
TZOFFSETTO:-0400
TZNAME:EDT
DTSTART:20250309T070000
END:DAYLIGHT
BEGIN:STANDARD
TZOFFSETFROM:-0400
TZOFFSETTO:-0500
TZNAME:EST
DTSTART:20251102T060000
END:STANDARD
END:VTIMEZONE
BEGIN:VEVENT
DTSTART;TZID=America/New_York:20241005T130000
DTEND;TZID=America/New_York:20241005T150000
DTSTAMP:20260424T105153
CREATED:20240925T115547Z
LAST-MODIFIED:20240925T115721Z
UID:10000290-1728133200-1728140400@www.roccatholicsnorthwest.org
SUMMARY:Grieving With Great Hope
DESCRIPTION:The Grieving With Great Hope team of our Mother of Sorrows and Holy Cross Parishes welcome all who are grieving to consider joining the next offering of this prayerful\, personal and practical program series. The program is free\, and all are welcome. Previous program participants will also be warmly received. \nJesus wept before breathing new life into His friend\, Lazarus. So too\, those who have lost loved ones\, suffer and weep. We\, also\, understand that each person’s expression of their loss is unique. \n  \nPlease feel free to contact one of the following parish offices: \nHoly Cross @ (585) 663-2244 \nOur Mother of Sorrows @ (585) 663-5432 \nLocation – Our Mother of Sorrows\, Conference Room #2. \n (Enter through church proper and proceed to the room behind the alter) \nWhen – October 5\, 2024\, through November 16\, 2024 \nTime: Saturdays from 1pm to 3 pm \nInformation and Registration – materials are in the Narthex of Our Mother of Sorrows\, at the parish center entrance of Holy Cross and in the information areas of St Charles and St. Lawrence Churches or click here. \nTo register leave the completed registration form in one of the offices above or by phone through parish administrator’s directions. \nOnline information will be posted on Our Mother of Sorrows social media pages\, and in the following: “the Diocesan Updates”\, “the Diocesan Calendar”\, the “Diocesan Catholic Courier” and the “Diocesan Newsroom”. \n  \nHope for the Holidays – November 23\, 2024. An additional program focusing on the holidays\, the uniqueness of the holiday grieving process\, and incredibly effective\, compassionate strategies for coping. All are welcome\, no previous Grieving With Great Hope program necessary. More information to follow.
URL:https://www.roccatholicsnorthwest.org/event/grieving-with-great-hope/2024-10-05/
LOCATION:NY
CATEGORIES:Holy Cross,Our Mother of Sorrows
ATTACH;FMTTYPE=image/jpeg:https://www.roccatholicsnorthwest.org/wp-content/uploads/Grieving-With-Great-Hope.jpg
END:VEVENT
BEGIN:VEVENT
DTSTART;TZID=America/New_York:20241012T130000
DTEND;TZID=America/New_York:20241012T150000
DTSTAMP:20260424T105153
CREATED:20240925T115547Z
LAST-MODIFIED:20240925T115721Z
UID:10000291-1728738000-1728745200@www.roccatholicsnorthwest.org
SUMMARY:Grieving With Great Hope
DESCRIPTION:The Grieving With Great Hope team of our Mother of Sorrows and Holy Cross Parishes welcome all who are grieving to consider joining the next offering of this prayerful\, personal and practical program series. The program is free\, and all are welcome. Previous program participants will also be warmly received. \nJesus wept before breathing new life into His friend\, Lazarus. So too\, those who have lost loved ones\, suffer and weep. We\, also\, understand that each person’s expression of their loss is unique. \n  \nPlease feel free to contact one of the following parish offices: \nHoly Cross @ (585) 663-2244 \nOur Mother of Sorrows @ (585) 663-5432 \nLocation – Our Mother of Sorrows\, Conference Room #2. \n (Enter through church proper and proceed to the room behind the alter) \nWhen – October 5\, 2024\, through November 16\, 2024 \nTime: Saturdays from 1pm to 3 pm \nInformation and Registration – materials are in the Narthex of Our Mother of Sorrows\, at the parish center entrance of Holy Cross and in the information areas of St Charles and St. Lawrence Churches or click here. \nTo register leave the completed registration form in one of the offices above or by phone through parish administrator’s directions. \nOnline information will be posted on Our Mother of Sorrows social media pages\, and in the following: “the Diocesan Updates”\, “the Diocesan Calendar”\, the “Diocesan Catholic Courier” and the “Diocesan Newsroom”. \n  \nHope for the Holidays – November 23\, 2024. An additional program focusing on the holidays\, the uniqueness of the holiday grieving process\, and incredibly effective\, compassionate strategies for coping. All are welcome\, no previous Grieving With Great Hope program necessary. More information to follow.
URL:https://www.roccatholicsnorthwest.org/event/grieving-with-great-hope/2024-10-12/
LOCATION:NY
CATEGORIES:Holy Cross,Our Mother of Sorrows
ATTACH;FMTTYPE=image/jpeg:https://www.roccatholicsnorthwest.org/wp-content/uploads/Grieving-With-Great-Hope.jpg
END:VEVENT
BEGIN:VEVENT
DTSTART;TZID=America/New_York:20241019T130000
DTEND;TZID=America/New_York:20241019T150000
DTSTAMP:20260424T105153
CREATED:20240925T115547Z
LAST-MODIFIED:20240925T115721Z
UID:10000292-1729342800-1729350000@www.roccatholicsnorthwest.org
SUMMARY:Grieving With Great Hope
DESCRIPTION:The Grieving With Great Hope team of our Mother of Sorrows and Holy Cross Parishes welcome all who are grieving to consider joining the next offering of this prayerful\, personal and practical program series. The program is free\, and all are welcome. Previous program participants will also be warmly received. \nJesus wept before breathing new life into His friend\, Lazarus. So too\, those who have lost loved ones\, suffer and weep. We\, also\, understand that each person’s expression of their loss is unique. \n  \nPlease feel free to contact one of the following parish offices: \nHoly Cross @ (585) 663-2244 \nOur Mother of Sorrows @ (585) 663-5432 \nLocation – Our Mother of Sorrows\, Conference Room #2. \n (Enter through church proper and proceed to the room behind the alter) \nWhen – October 5\, 2024\, through November 16\, 2024 \nTime: Saturdays from 1pm to 3 pm \nInformation and Registration – materials are in the Narthex of Our Mother of Sorrows\, at the parish center entrance of Holy Cross and in the information areas of St Charles and St. Lawrence Churches or click here. \nTo register leave the completed registration form in one of the offices above or by phone through parish administrator’s directions. \nOnline information will be posted on Our Mother of Sorrows social media pages\, and in the following: “the Diocesan Updates”\, “the Diocesan Calendar”\, the “Diocesan Catholic Courier” and the “Diocesan Newsroom”. \n  \nHope for the Holidays – November 23\, 2024. An additional program focusing on the holidays\, the uniqueness of the holiday grieving process\, and incredibly effective\, compassionate strategies for coping. All are welcome\, no previous Grieving With Great Hope program necessary. More information to follow.
URL:https://www.roccatholicsnorthwest.org/event/grieving-with-great-hope/2024-10-19/
LOCATION:NY
CATEGORIES:Holy Cross,Our Mother of Sorrows
ATTACH;FMTTYPE=image/jpeg:https://www.roccatholicsnorthwest.org/wp-content/uploads/Grieving-With-Great-Hope.jpg
END:VEVENT
BEGIN:VEVENT
DTSTART;TZID=America/New_York:20241026T130000
DTEND;TZID=America/New_York:20241026T150000
DTSTAMP:20260424T105153
CREATED:20240925T115547Z
LAST-MODIFIED:20240925T115721Z
UID:10000293-1729947600-1729954800@www.roccatholicsnorthwest.org
SUMMARY:Grieving With Great Hope
DESCRIPTION:The Grieving With Great Hope team of our Mother of Sorrows and Holy Cross Parishes welcome all who are grieving to consider joining the next offering of this prayerful\, personal and practical program series. The program is free\, and all are welcome. Previous program participants will also be warmly received. \nJesus wept before breathing new life into His friend\, Lazarus. So too\, those who have lost loved ones\, suffer and weep. We\, also\, understand that each person’s expression of their loss is unique. \n  \nPlease feel free to contact one of the following parish offices: \nHoly Cross @ (585) 663-2244 \nOur Mother of Sorrows @ (585) 663-5432 \nLocation – Our Mother of Sorrows\, Conference Room #2. \n (Enter through church proper and proceed to the room behind the alter) \nWhen – October 5\, 2024\, through November 16\, 2024 \nTime: Saturdays from 1pm to 3 pm \nInformation and Registration – materials are in the Narthex of Our Mother of Sorrows\, at the parish center entrance of Holy Cross and in the information areas of St Charles and St. Lawrence Churches or click here. \nTo register leave the completed registration form in one of the offices above or by phone through parish administrator’s directions. \nOnline information will be posted on Our Mother of Sorrows social media pages\, and in the following: “the Diocesan Updates”\, “the Diocesan Calendar”\, the “Diocesan Catholic Courier” and the “Diocesan Newsroom”. \n  \nHope for the Holidays – November 23\, 2024. An additional program focusing on the holidays\, the uniqueness of the holiday grieving process\, and incredibly effective\, compassionate strategies for coping. All are welcome\, no previous Grieving With Great Hope program necessary. More information to follow.
URL:https://www.roccatholicsnorthwest.org/event/grieving-with-great-hope/2024-10-26/
LOCATION:NY
CATEGORIES:Holy Cross,Our Mother of Sorrows
ATTACH;FMTTYPE=image/jpeg:https://www.roccatholicsnorthwest.org/wp-content/uploads/Grieving-With-Great-Hope.jpg
END:VEVENT
END:VCALENDAR